Workbook
Name a_sizeเสื้อ: ข้อมูลผู้สมัคร!$K$2:$K$701
Name a_เพศ: ข้อมูลผู้สมัคร!$J$2:$J$701
Name a_รุ่นการวิ่ง: ข้อมูลผู้สมัคร!$H$2:$H$701
Name sizeเสื้อ: data!$L$2:$L$12
Name คำนำหน้าชื่อ: data!$B$2:$B$21
Name จำนวนนักเรียน: data!$R$2:$U$86
Name ตำแหน่ง: data!$A$2:$A$7
Name ตำแหน่งผู้บริหารครู: ข้อมูลผู้สมัคร!$F$2:$F$701
Name เพศ: data!$N$2:$N$3
Name ยอดเงิน: ข้อมูลผู้สมัคร!$M$2:$M$701
Name รุ่นประเภท: data!$J$2:$J$4
Name หน่วยงาน: data!$D$2:$F$87
Name หน่วยงานส: data!$D$2:$D$87

Sheet คำชี้แจง
B1: คำชี้แจง
A2: 1 | B2: ให้กรอกข้อมูลหน่วยงานให้ครบถ้วน กรณีโรงเรียนไม่มีผู้อำนวยการ ให้กรอกข้อมูลของรักษาการในตำแหน่งผู้อำนวยการ
A3: 2 | B3: ข้อมูลจำนวนนักเรียน จะยืนยันจากข้อมูลของ DMC
A4: 3 | B4: ข้อมูลครูและบุคลากรในสังกัด ประกอบด้วย ข้าราชการครู พนักงานราชการ ครูอัตราจ้าง เจ้าหน้าที่ธุรการ
A5: 4 | B5: กรอกข้อมูลของผู้สมัครให้เรียบร้อย ประกอบด้วย
B6: - ตำแหน่งผู้อำนวยการ 100% (กรณีรักษาการ ให้เลือกตำแหน่งผู้อำนวยการ)
B7: - ตำแหน่งรองผู้อำนวยการ 100%
B8: - ตำแหน่งครูและบุคลากรในสังกัด (ข้าราชการครู พนักงานราชการ ครูอัตตราจ้าง เจ้าหน้าที่ธุรการ) ไม่น้อยกว่า 50 %
B9: - นักเรียน ไม่น้อยกว่า 5%
A10: 5 | B10: กรอกข้อมูลเลขประจำตัวประชาชน และข้อมูลต่าง ๆ ให้ถูกต้องและครบถ้วน
B12: ติดต่อสอบถาม
B13: นายเก่งกานต์ แก่นดี
B14: โทร 0899468228
B15: ID LINE : keng123456

Sheet ข้อมูลหน่วยงาน
A1: ข้อมูลหน่วยงาน
A2: ชื่อหน่วยงาน | B2: จำนวนผู้อำนวยการ | C2: จำนวนรองผู้อำนวยการ | D2: จำนวนข้าราชการครูและบุคลากรในสังกัด | E2: จำนวนนักเรียน DMC
B3: 1 | E3: =IFERROR(VLOOKUP(A3,หน่วยงาน,3,FALSE),0) -> 0
D6: รับรองข้อมูล
D8: (..........................................................................)
D9: ผู้อำนวยการโรงเรียน

Sheet ข้อมูลผู้สมัคร
A1: ลำดับที่ | B1: เลขประจำตัวประชาชน | C1: คำนำหน้าชื่อ | D1: ชื่อ | E1: นามสกุล | F1: ตำแหน่ง | G1: หน่วยงาน | H1: รุ่น/ระยะการวิ่ง | I1: อายุ | J1: เพศ | K1: SIZE เสื้อ | L1: หมายเลขโทรศัพท์ | M1: เป็นเงิน | N1: หมายเหตุ | Q1: 1 | R1: 2 | S1: 3 | T1: 4 | U1: 5 | V1: 6 | W1: 7 | X1: 8 | Y1: 9 | Z1: 10 | AA1: 11 | AB1: 12 | AC1: 13
A2: 1 | M2: =IF(F2=data!$A$2,1500,IF(F2=data!$A$3,500,IF(F2=data!$A$4,300,IF(F2=data!$A$5,200,IF(F2=data!$A$6,1500,IF(F2=data!$A$7,1500,"")))))) | Q2: =LEFT(B2,1) | R2: =MID(B2,$R$1,1) | S2: =MID(B2,$S$1,1) | T2: =MID(B2,$T$1,1) | U2: =MID(B2,$U$1,1) | V2: =MID(B2,$V$1,1) | W2: =MID(B2,$W$1,1) | X2: =MID(B2,$X$1,1) | Y2: =MID(B2,$Y$1,1) | Z2: =MID(B2,$Z$1,1) | AA2: =MID(B2,$AA$1,1) | AB2: =MID(B2,$AB$1,1) | AC2: =MID(B2,$AC$1,1) | AD2: =((Q2*13)+(R2*12)+(S2*11)+(T2*10)+(U2*9)+(V2*8)+(W2*7)+(X2*6)+(Y2*5)+(Z2*4)+(AA2*3)+(AB2*2)) -> #VALUE! | AE2: =AD2/11 -> #VALUE! | AF2: =INT(AE2) -> #VALUE! | AG2: =AF2*11 -> #VALUE! | AH2: =AD2-AG2 -> #VALUE! | AI2: =RIGHT(11-AH2,1) -> #VALUE! | AJ2: =RIGHT(B2,1)
A3: 2 | M3: =IF(F3=data!$A$2,1500,IF(F3=data!$A$3,500,IF(F3=data!$A$4,300,IF(F3=data!$A$5,200,IF(F3=data!$A$6,1500,IF(F3=data!$A$7,1500,"")))))) | Q3: =LEFT(B3,1) | R3: =MID(B3,$R$1,1) | S3: =MID(B3,$S$1,1) | T3: =MID(B3,$T$1,1) | U3: =MID(B3,$U$1,1) | V3: =MID(B3,$V$1,1) | W3: =MID(B3,$W$1,1) | X3: =MID(B3,$X$1,1) | Y3: =MID(B3,$Y$1,1) | Z3: =MID(B3,$Z$1,1) | AA3: =MID(B3,$AA$1,1) | AB3: =MID(B3,$AB$1,1) | AC3: =MID(B3,$AC$1,1) | AD3: =((Q3*13)+(R3*12)+(S3*11)+(T3*10)+(U3*9)+(V3*8)+(W3*7)+(X3*6)+(Y3*5)+(Z3*4)+(AA3*3)+(AB3*2)) -> #VALUE! | AE3: =AD3/11 -> #VALUE! | AF3: =INT(AE3) -> #VALUE! | AG3: =AF3*11 -> #VALUE! | AH3: =AD3-AG3 -> #VALUE! | AI3: =RIGHT(11-AH3,1) -> #VALUE! | AJ3: =RIGHT(B3,1)
A4: 3 | M4: =IF(F4=data!$A$2,1500,IF(F4=data!$A$3,500,IF(F4=data!$A$4,300,IF(F4=data!$A$5,200,IF(F4=data!$A$6,1500,IF(F4=data!$A$7,1500,"")))))) | Q4: =LEFT(B4,1) | R4: =MID(B4,$R$1,1) | S4: =MID(B4,$S$1,1) | T4: =MID(B4,$T$1,1) | U4: =MID(B4,$U$1,1) | V4: =MID(B4,$V$1,1) | W4: =MID(B4,$W$1,1) | X4: =MID(B4,$X$1,1) | Y4: =MID(B4,$Y$1,1) | Z4: =MID(B4,$Z$1,1) | AA4: =MID(B4,$AA$1,1) | AB4: =MID(B4,$AB$1,1) | AC4: =MID(B4,$AC$1,1) | AD4: =((Q4*13)+(R4*12)+(S4*11)+(T4*10)+(U4*9)+(V4*8)+(W4*7)+(X4*6)+(Y4*5)+(Z4*4)+(AA4*3)+(AB4*2)) -> #VALUE! | AE4: =AD4/11 -> #VALUE! | AF4: =INT(AE4) -> #VALUE! | AG4: =AF4*11 -> #VALUE! | AH4: =AD4-AG4 -> #VALUE! | AI4: =RIGHT(11-AH4,1) -> #VALUE! | AJ4: =RIGHT(B4,1)
A5: 4 | M5: =IF(F5=data!$A$2,1500,IF(F5=data!$A$3,500,IF(F5=data!$A$4,300,IF(F5=data!$A$5,200,IF(F5=data!$A$6,1500,IF(F5=data!$A$7,1500,"")))))) | Q5: =LEFT(B5,1) | R5: =MID(B5,$R$1,1) | S5: =MID(B5,$S$1,1) | T5: =MID(B5,$T$1,1) | U5: =MID(B5,$U$1,1) | V5: =MID(B5,$V$1,1) | W5: =MID(B5,$W$1,1) | X5: =MID(B5,$X$1,1) | Y5: =MID(B5,$Y$1,1) | Z5: =MID(B5,$Z$1,1) | AA5: =MID(B5,$AA$1,1) | AB5: =MID(B5,$AB$1,1) | AC5: =MID(B5,$AC$1,1) | AD5: =((Q5*13)+(R5*12)+(S5*11)+(T5*10)+(U5*9)+(V5*8)+(W5*7)+(X5*6)+(Y5*5)+(Z5*4)+(AA5*3)+(AB5*2)) -> #VALUE! | AE5: =AD5/11 -> #VALUE! | AF5: =INT(AE5) -> #VALUE! | AG5: =AF5*11 -> #VALUE! | AH5: =AD5-AG5 -> #VALUE! | AI5: =RIGHT(11-AH5,1) -> #VALUE! | AJ5: =RIGHT(B5,1)
A6: 5 | M6: =IF(F6=data!$A$2,1500,IF(F6=data!$A$3,500,IF(F6=data!$A$4,300,IF(F6=data!$A$5,200,IF(F6=data!$A$6,1500,IF(F6=data!$A$7,1500,"")))))) | Q6: =LEFT(B6,1) | R6: =MID(B6,$R$1,1) | S6: =MID(B6,$S$1,1) | T6: =MID(B6,$T$1,1) | U6: =MID(B6,$U$1,1) | V6: =MID(B6,$V$1,1) | W6: =MID(B6,$W$1,1) | X6: =MID(B6,$X$1,1) | Y6: =MID(B6,$Y$1,1) | Z6: =MID(B6,$Z$1,1) | AA6: =MID(B6,$AA$1,1) | AB6: =MID(B6,$AB$1,1) | AC6: =MID(B6,$AC$1,1) | AD6: =((Q6*13)+(R6*12)+(S6*11)+(T6*10)+(U6*9)+(V6*8)+(W6*7)+(X6*6)+(Y6*5)+(Z6*4)+(AA6*3)+(AB6*2)) -> #VALUE! | AE6: =AD6/11 -> #VALUE! | AF6: =INT(AE6) -> #VALUE! | AG6: =AF6*11 -> #VALUE! | AH6: =AD6-AG6 -> #VALUE! | AI6: =RIGHT(11-AH6,1) -> #VALUE! | AJ6: =RIGHT(B6,1)
A7: 6 | M7: =IF(F7=data!$A$2,1500,IF(F7=data!$A$3,500,IF(F7=data!$A$4,300,IF(F7=data!$A$5,200,IF(F7=data!$A$6,1500,IF(F7=data!$A$7,1500,"")))))) | Q7: =LEFT(B7,1) | R7: =MID(B7,$R$1,1) | S7: =MID(B7,$S$1,1) | T7: =MID(B7,$T$1,1) | U7: =MID(B7,$U$1,1) | V7: =MID(B7,$V$1,1) | W7: =MID(B7,$W$1,1) | X7: =MID(B7,$X$1,1) | Y7: =MID(B7,$Y$1,1) | Z7: =MID(B7,$Z$1,1) | AA7: =MID(B7,$AA$1,1) | AB7: =MID(B7,$AB$1,1) | AC7: =MID(B7,$AC$1,1) | AD7: =((Q7*13)+(R7*12)+(S7*11)+(T7*10)+(U7*9)+(V7*8)+(W7*7)+(X7*6)+(Y7*5)+(Z7*4)+(AA7*3)+(AB7*2)) -> #VALUE! | AE7: =AD7/11 -> #VALUE! | AF7: =INT(AE7) -> #VALUE! | AG7: =AF7*11 -> #VALUE! | AH7: =AD7-AG7 -> #VALUE! | AI7: =RIGHT(11-AH7,1) -> #VALUE! | AJ7: =RIGHT(B7,1)
A8: 7 | M8: =IF(F8=data!$A$2,1500,IF(F8=data!$A$3,500,IF(F8=data!$A$4,300,IF(F8=data!$A$5,200,IF(F8=data!$A$6,1500,IF(F8=data!$A$7,1500,"")))))) | Q8: =LEFT(B8,1) | R8: =MID(B8,$R$1,1) | S8: =MID(B8,$S$1,1) | T8: =MID(B8,$T$1,1) | U8: =MID(B8,$U$1,1) | V8: =MID(B8,$V$1,1) | W8: =MID(B8,$W$1,1) | X8: =MID(B8,$X$1,1) | Y8: =MID(B8,$Y$1,1) | Z8: =MID(B8,$Z$1,1) | AA8: =MID(B8,$AA$1,1) | AB8: =MID(B8,$AB$1,1) | AC8: =MID(B8,$AC$1,1) | AD8: =((Q8*13)+(R8*12)+(S8*11)+(T8*10)+(U8*9)+(V8*8)+(W8*7)+(X8*6)+(Y8*5)+(Z8*4)+(AA8*3)+(AB8*2)) -> #VALUE! | AE8: =AD8/11 -> #VALUE! | AF8: =INT(AE8) -> #VALUE! | AG8: =AF8*11 -> #VALUE! | AH8: =AD8-AG8 -> #VALUE! | AI8: =RIGHT(11-AH8,1) -> #VALUE! | AJ8: =RIGHT(B8,1)
A9: 8 | M9: =IF(F9=data!$A$2,1500,IF(F9=data!$A$3,500,IF(F9=data!$A$4,300,IF(F9=data!$A$5,200,IF(F9=data!$A$6,1500,IF(F9=data!$A$7,1500,"")))))) | Q9: =LEFT(B9,1) | R9: =MID(B9,$R$1,1) | S9: =MID(B9,$S$1,1) | T9: =MID(B9,$T$1,1) | U9: =MID(B9,$U$1,1) | V9: =MID(B9,$V$1,1) | W9: =MID(B9,$W$1,1) | X9: =MID(B9,$X$1,1) | Y9: =MID(B9,$Y$1,1) | Z9: =MID(B9,$Z$1,1) | AA9: =MID(B9,$AA$1,1) | AB9: =MID(B9,$AB$1,1) | AC9: =MID(B9,$AC$1,1) | AD9: =((Q9*13)+(R9*12)+(S9*11)+(T9*10)+(U9*9)+(V9*8)+(W9*7)+(X9*6)+(Y9*5)+(Z9*4)+(AA9*3)+(AB9*2)) -> #VALUE! | AE9: =AD9/11 -> #VALUE! | AF9: =INT(AE9) -> #VALUE! | AG9: =AF9*11 -> #VALUE! | AH9: =AD9-AG9 -> #VALUE! | AI9: =RIGHT(11-AH9,1) -> #VALUE! | AJ9: =RIGHT(B9,1)
A10: 9 | M10: =IF(F10=data!$A$2,1500,IF(F10=data!$A$3,500,IF(F10=data!$A$4,300,IF(F10=data!$A$5,200,IF(F10=data!$A$6,1500,IF(F10=data!$A$7,1500,"")))))) | Q10: =LEFT(B10,1) | R10: =MID(B10,$R$1,1) | S10: =MID(B10,$S$1,1) | T10: =MID(B10,$T$1,1) | U10: =MID(B10,$U$1,1) | V10: =MID(B10,$V$1,1) | W10: =MID(B10,$W$1,1) | X10: =MID(B10,$X$1,1) | Y10: =MID(B10,$Y$1,1) | Z10: =MID(B10,$Z$1,1) | AA10: =MID(B10,$AA$1,1) | AB10: =MID(B10,$AB$1,1) | AC10: =MID(B10,$AC$1,1) | AD10: =((Q10*13)+(R10*12)+(S10*11)+(T10*10)+(U10*9)+(V10*8)+(W10*7)+(X10*6)+(Y10*5)+(Z10*4)+(AA10*3)+(AB10*2)) -> #VALUE! | AE10: =AD10/11 -> #VALUE! | AF10: =INT(AE10) -> #VALUE! | AG10: =AF10*11 -> #VALUE! | AH10: =AD10-AG10 -> #VALUE! | AI10: =RIGHT(11-AH10,1) -> #VALUE! | AJ10: =RIGHT(B10,1)
A11: 10 | M11: =IF(F11=data!$A$2,1500,IF(F11=data!$A$3,500,IF(F11=data!$A$4,300,IF(F11=data!$A$5,200,IF(F11=data!$A$6,1500,IF(F11=data!$A$7,1500,"")))))) | Q11: =LEFT(B11,1) | R11: =MID(B11,$R$1,1) | S11: =MID(B11,$S$1,1) | T11: =MID(B11,$T$1,1) | U11: =MID(B11,$U$1,1) | V11: =MID(B11,$V$1,1) | W11: =MID(B11,$W$1,1) | X11: =MID(B11,$X$1,1) | Y11: =MID(B11,$Y$1,1) | Z11: =MID(B11,$Z$1,1) | AA11: =MID(B11,$AA$1,1) | AB11: =MID(B11,$AB$1,1) | AC11: =MID(B11,$AC$1,1) | AD11: =((Q11*13)+(R11*12)+(S11*11)+(T11*10)+(U11*9)+(V11*8)+(W11*7)+(X11*6)+(Y11*5)+(Z11*4)+(AA11*3)+(AB11*2)) -> #VALUE! | AE11: =AD11/11 -> #VALUE! | AF11: =INT(AE11) -> #VALUE! | AG11: =AF11*11 -> #VALUE! | AH11: =AD11-AG11 -> #VALUE! | AI11: =RIGHT(11-AH11,1) -> #VALUE! | AJ11: =RIGHT(B11,1)
A12: 11 | M12: =IF(F12=data!$A$2,1500,IF(F12=data!$A$3,500,IF(F12=data!$A$4,300,IF(F12=data!$A$5,200,IF(F12=data!$A$6,1500,IF(F12=data!$A$7,1500,"")))))) | Q12: =LEFT(B12,1) | R12: =MID(B12,$R$1,1) | S12: =MID(B12,$S$1,1) | T12: =MID(B12,$T$1,1) | U12: =MID(B12,$U$1,1) | V12: =MID(B12,$V$1,1) | W12: =MID(B12,$W$1,1) | X12: =MID(B12,$X$1,1) | Y12: =MID(B12,$Y$1,1) | Z12: =MID(B12,$Z$1,1) | AA12: =MID(B12,$AA$1,1) | AB12: =MID(B12,$AB$1,1) | AC12: =MID(B12,$AC$1,1) | AD12: =((Q12*13)+(R12*12)+(S12*11)+(T12*10)+(U12*9)+(V12*8)+(W12*7)+(X12*6)+(Y12*5)+(Z12*4)+(AA12*3)+(AB12*2)) -> #VALUE! | AE12: =AD12/11 -> #VALUE! | AF12: =INT(AE12) -> #VALUE! | AG12: =AF12*11 -> #VALUE! | AH12: =AD12-AG12 -> #VALUE! | AI12: =RIGHT(11-AH12,1) -> #VALUE! | AJ12: =RIGHT(B12,1)
A13: 12 | M13: =IF(F13=data!$A$2,1500,IF(F13=data!$A$3,500,IF(F13=data!$A$4,300,IF(F13=data!$A$5,200,IF(F13=data!$A$6,1500,IF(F13=data!$A$7,1500,"")))))) | Q13: =LEFT(B13,1) | R13: =MID(B13,$R$1,1) | S13: =MID(B13,$S$1,1) | T13: =MID(B13,$T$1,1) | U13: =MID(B13,$U$1,1) | V13: =MID(B13,$V$1,1) | W13: =MID(B13,$W$1,1) | X13: =MID(B13,$X$1,1) | Y13: =MID(B13,$Y$1,1) | Z13: =MID(B13,$Z$1,1) | AA13: =MID(B13,$AA$1,1) | AB13: =MID(B13,$AB$1,1) | AC13: =MID(B13,$AC$1,1) | AD13: =((Q13*13)+(R13*12)+(S13*11)+(T13*10)+(U13*9)+(V13*8)+(W13*7)+(X13*6)+(Y13*5)+(Z13*4)+(AA13*3)+(AB13*2)) -> #VALUE! | AE13: =AD13/11 -> #VALUE! | AF13: =INT(AE13) -> #VALUE! | AG13: =AF13*11 -> #VALUE! | AH13: =AD13-AG13 -> #VALUE! | AI13: =RIGHT(11-AH13,1) -> #VALUE! | AJ13: =RIGHT(B13,1)
... A701: 700 | M701: =IF(F701=data!$A$2,1500,IF(F701=data!$A$3,500,IF(F701=data!$A$4,300,IF(F701=data!$A$5,200,IF(F701=data!$A$6,1500,IF(F701=data!$A$7,1500,"")))))) | Q701: =LEFT(B701,1) | R701: =MID(B701,$R$1,1) | S701: =MID(B701,$S$1,1) | T701: =MID(B701,$T$1,1) | U701: =MID(B701,$U$1,1) | V701: =MID(B701,$V$1,1) | W701: =MID(B701,$W$1,1) | X701: =MID(B701,$X$1,1) | Y701: =MID(B701,$Y$1,1) | Z701: =MID(B701,$Z$1,1) | AA701: =MID(B701,$AA$1,1) | AB701: =MID(B701,$AB$1,1) | AC701: =MID(B701,$AC$1,1) | AD701: =((Q701*13)+(R701*12)+(S701*11)+(T701*10)+(U701*9)+(V701*8)+(W701*7)+(X701*6)+(Y701*5)+(Z701*4)+(AA701*3)+(AB701*2)) -> #VALUE! | AE701: =AD701/11 -> #VALUE! | AF701: =INT(AE701) -> #VALUE! | AG701: =AF701*11 -> #VALUE! | AH701: =AD701-AG701 -> #VALUE! | AI701: =RIGHT(11-AH701,1) -> #VALUE! | AJ701: =RIGHT(B701,1)

Sheet สรุป
A1: ="สรุป ข้อมูล "&B3 -> สรุป ข้อมูล 0
A2: ข้อมูลทั่วไป | F2: ยอดเงินที่ต้องนำส่ง
A3: หน่วยงาน | B3: =ข้อมูลหน่วยงาน!A3 -> 0 | C3: สหวิทยาเขต | D3: =IFERROR(VLOOKUP(B3,หน่วยงาน,2,FALSE),"") | F3: =E17 -> 0
A4: กรอกข้อมูลบุคลากรภายในสถานศึกษา | F4: ="("&BAHTTEXT(F3)&")" -> (ศูนย์บาทถ้วน)
A5: 1 | B5: จำนวนผู้อำนวยการ | C5: =ข้อมูลหน่วยงาน!B3 -> 1 | D5: คน
A6: 2 | B6: จำนวนรองผู้อำนวยการ | C6: =ข้อมูลหน่วยงาน!C3 -> 0 | D6: คน
A7: 3 | B7: จำนวนข้าราชการครูและบุคลากรในสังกัด | C7: =ข้อมูลหน่วยงาน!D3 -> 0 | D7: คน
A8: 4 | B8: จำนวนนักเรียน | C8: =ข้อมูลหน่วยงาน!E3 -> 0 | D8: คน
B9: รวมทั้งสิ้น | C9: =SUM(C5:C8) -> 1 | D9: คน
A11: ข้อมูลที่สมัคร | M11: รวม
A12: ลำดับที่ | B12: รายการ | C12: จำนวนที่สมัคร | E12: ยอดเงินที่ต้องชำระ | F12: คิดเป็นร้อยละ | H12: หมายเหตุ | M12: VIP
A13: 1 | B13: จำนวนผู้อำนวยการ | C13: =COUNTIF(ตำแหน่งผู้บริหารครู,data!A2) -> 0 | D13: คน | E13: =SUMIF(ตำแหน่งผู้บริหารครู,data!A2,ยอดเงิน) -> 0 | F13: =IF(C5=0,"กรุณากรอกข้อมูลบุคลากร",C13/C5*100) -> 0 | H13: =IF(C5=0,"กรุณากรอกข้อมูลหน่วยงาน",IF(F13>=100,"ครบถ้วน","ยังไม่ครบ")) -> ยังไม่ครบ | M13: =COUNTIF(ตำแหน่งผู้บริหารครู,data!A2) -> 0 | O13: =IF(H13="ยังไม่ครบ",1,0) -> 1
A14: 2 | B14: จำนวนรองผู้อำนวยการ | C14: =COUNTIF(ตำแหน่งผู้บริหารครู,data!A3)+COUNTIF(ตำแหน่งผู้บริหารครู,data!A6) -> 0 | D14: คน | E14: =SUMIF(ตำแหน่งผู้บริหารครู,data!A3,ยอดเงิน)+SUMIF(ตำแหน่งผู้บริหารครู,data!A6,ยอดเงิน) -> 0 | F14: =IF(C6=0,"กรุณากรอกข้อมูลบุคลากร",C14/C6*100) -> กรุณากรอกข้อมูลบุคลากร | H14: =IF(C6=0,"กรุณากรอกข้อมูลหน่วยงาน",IF(F14>=100,"ครบถ้วน","ยังไม่ครบ")) -> กรุณากรอกข้อมูลหน่วยงาน | M14: =COUNTIF(ตำแหน่งผู้บริหารครู,data!A6) -> 0 | O14: =IF(H14="ยังไม่ครบ",1,0) -> 0
A15: 3 | B15: จำนวนข้าราชการครูและบุคลากรในสังกัด | C15: =COUNTIF(ตำแหน่งผู้บริหารครู,data!A4)+COUNTIF(ตำแหน่งผู้บริหารครู,data!A7) -> 0 | D15: คน | E15: =SUMIF(ตำแหน่งผู้บริหารครู,data!A4,ยอดเงิน)+SUMIF(ตำแหน่งผู้บริหารครู,data!A7,ยอดเงิน) -> 0 | F15: =IF(C7=0,"กรุณากรอกข้อมูลบุคลากร",C15/C7*100) -> กรุณากรอกข้อมูลบุคลากร | H15: =IF(C7=0,"กรุณากรอกข้อมูลหน่วยงาน",IF(F15>=100,"ครบถ้วน","ยังไม่ครบ")) -> กรุณากรอกข้อมูลหน่วยงาน | M15: =COUNTIF(ตำแหน่งผู้บริหารครู,data!A7) -> 0 | O15: =IF(H15="ยังไม่ครบ",1,0) -> 0
A16: 4 | B16: จำนวนนักเรียน | C16: =COUNTIF(ตำแหน่งผู้บริหารครู,data!A5) -> 0 | D16: คน | E16: =SUMIF(ตำแหน่งผู้บริหารครู,data!A5,ยอดเงิน) -> 0 | F16: =IF(C8=0,"กรุณากรอกข้อมูลบุคลากร",C16/C8*100) -> กรุณากรอกข้อมูลบุคลากร | H16: =IF(C8=0,"กรุณากรอกข้อมูลหน่วยงาน",IF(F16>=100,"ครบถ้วน","ยังไม่ครบ")) -> กรุณากรอกข้อมูลหน่วยงาน | O16: =IF(H16="ยังไม่ครบ",1,0) -> 0
B17: รวมทั้งสิ้น | C17: =SUM(C13:C16) -> 0 | D17: คน | E17: =SUM(E13:E16) -> 0 | F17: =IF(C9=0,"กรุณากรอกข้อมูลบุคลากร",C17/C9*100) -> 0 | H17: =IF(C9=0,"กรุณากรอกข้อมูลหน่วยงาน",IF(F17>=100,"ครบถ้วน","ยังไม่ครบ")) -> ยังไม่ครบ | M17: =SUM(M13:M16) -> 0 | O17: =SUM(O13:O16) -> 1
A19: ข้อมูลที่สมัคร
A20: ลำดับที่ | B20: รายการ | C20: ประเภท | F20: รวม | H20: เพศ | J20: รวม
C21: FUNRUN | D21: Mini Marathon | E21: Half Marathon | H21: ชาย | I21: หญิง
A22: 1 | B22: จำนวนผู้อำนวยการ | C22: =COUNTIFS(ตำแหน่งผู้บริหารครู,data!A2,a_รุ่นการวิ่ง,$C$21) -> 0 | D22: =COUNTIFS(ตำแหน่งผู้บริหารครู,data!A2,a_รุ่นการวิ่ง,$D$21) -> 0 | E22: =COUNTIFS(ตำแหน่งผู้บริหารครู,data!A2,a_รุ่นการวิ่ง,$E$21) -> 0 | F22: =SUM(C22:E22) -> 0 | H22: =COUNTIFS(ตำแหน่งผู้บริหารครู,data!$A$2,a_เพศ,H21) -> 0 | I22: =COUNTIFS(ตำแหน่งผู้บริหารครู,data!$A$2,a_เพศ,I21) -> 0 | J22: =SUM(H22:I22) -> 0
A23: 2 | B23: จำนวนรองผู้อำนวยการ | C23: =COUNTIFS(ตำแหน่งผู้บริหารครู,data!$A$3,a_รุ่นการวิ่ง,C21)+COUNTIFS(ตำแหน่งผู้บริหารครู,data!$A$6,a_รุ่นการวิ่ง,C21) -> 0 | D23: =COUNTIFS(ตำแหน่งผู้บริหารครู,data!$A$3,a_รุ่นการวิ่ง,D21)+COUNTIFS(ตำแหน่งผู้บริหารครู,data!$A$6,a_รุ่นการวิ่ง,D21) -> 0 | E23: =COUNTIFS(ตำแหน่งผู้บริหารครู,data!$A$3,a_รุ่นการวิ่ง,E21)+COUNTIFS(ตำแหน่งผู้บริหารครู,data!$A$6,a_รุ่นการวิ่ง,E21) -> 0 | F23: =SUM(C23:E23) -> 0 | H23: =COUNTIFS(ตำแหน่งผู้บริหารครู,data!$A$3,a_เพศ,H21)+COUNTIFS(ตำแหน่งผู้บริหารครู,data!$A$6,a_เพศ,H21) -> 0 | I23: =COUNTIFS(ตำแหน่งผู้บริหารครู,data!$A$3,a_เพศ,I21)+COUNTIFS(ตำแหน่งผู้บริหารครู,data!$A$6,a_เพศ,I21) -> 0 | J23: =SUM(H23:I23) -> 0
A24: 3 | B24: จำนวนข้าราชการครูและบุคลากรในสังกัด | C24: =COUNTIFS(ตำแหน่งผู้บริหารครู,data!$A$4,a_รุ่นการวิ่ง,C21)+COUNTIFS(ตำแหน่งผู้บริหารครู,data!$A$7,a_รุ่นการวิ่ง,C21) -> 0 | D24: =COUNTIFS(ตำแหน่งผู้บริหารครู,data!$A$4,a_รุ่นการวิ่ง,D21)+COUNTIFS(ตำแหน่งผู้บริหารครู,data!$A$7,a_รุ่นการวิ่ง,D21) -> 0 | E24: =COUNTIFS(ตำแหน่งผู้บริหารครู,data!$A$4,a_รุ่นการวิ่ง,E21)+COUNTIFS(ตำแหน่งผู้บริหารครู,data!$A$7,a_รุ่นการวิ่ง,E21) -> 0 | F24: =SUM(C24:E24) -> 0 | H24: =COUNTIFS(ตำแหน่งผู้บริหารครู,data!$A$4,a_เพศ,H21)+COUNTIFS(ตำแหน่งผู้บริหารครู,data!$A$7,a_เพศ,H21) -> 0 | I24: =COUNTIFS(ตำแหน่งผู้บริหารครู,data!$A$4,a_เพศ,I21)+COUNTIFS(ตำแหน่งผู้บริหารครู,data!$A$7,a_เพศ,I21) -> 0 | J24: =SUM(H24:I24) -> 0
A25: 4 | B25: จำนวนนักเรียน | C25: =COUNTIFS(ตำแหน่งผู้บริหารครู,data!A5,a_รุ่นการวิ่ง,$C$21) -> 0 | D25: =COUNTIFS(ตำแหน่งผู้บริหารครู,data!A5,a_รุ่นการวิ่ง,$D$21) -> 0 | E25: =COUNTIFS(ตำแหน่งผู้บริหารครู,data!A5,a_รุ่นการวิ่ง,$E$21) -> 0 | F25: =SUM(C25:E25) -> 0 | H25: =COUNTIFS(ตำแหน่งผู้บริหารครู,data!$A$5,a_เพศ,H21) -> 0 | I25: =COUNTIFS(ตำแหน่งผู้บริหารครู,data!$A$5,a_เพศ,I21) -> 0 | J25: =SUM(H25:I25) -> 0
B26: รวมทั้งสิ้น | C26: =SUM(C22:C25) -> 0 | D26: =SUM(D22:D25) -> 0 | E26: =SUM(E22:E25) -> 0 | F26: =SUM(F22:F25) -> 0 | H26: =SUM(H22:H25) -> 0 | I26: =SUM(I22:I25) -> 0 | J26: =SUM(J22:J25) -> 0
A27: ="สรุป ข้อมูล "&B3 -> สรุป ข้อมูล 0
A28: ข้อมูลที่สมัคร
A29: ลำดับที่ | B29: รายการ | C29: Size เสื้อ | N29: รวม
C30: JS | D30: JM | E30: JL | F30: JXL | G30: S | H30: M | I30: L | J30: XL | K30: 2XL | L30: 3XL | M30: 4XL
A31: 1 | B31: จำนวนผู้อำนวยการ | C31: =COUNTIFS(ตำแหน่งผู้บริหารครู,data!$A$2,a_sizeเสื้อ,C30) -> 0 | D31: =COUNTIFS(ตำแหน่งผู้บริหารครู,data!$A$2,a_sizeเสื้อ,D30) -> 0 | E31: =COUNTIFS(ตำแหน่งผู้บริหารครู,data!$A$2,a_sizeเสื้อ,E30) -> 0 | F31: =COUNTIFS(ตำแหน่งผู้บริหารครู,data!$A$2,a_sizeเสื้อ,F30) -> 0 | G31: =COUNTIFS(ตำแหน่งผู้บริหารครู,data!$A$2,a_sizeเสื้อ,G30) -> 0 | H31: =COUNTIFS(ตำแหน่งผู้บริหารครู,data!$A$2,a_sizeเสื้อ,H30) -> 0 | I31: =COUNTIFS(ตำแหน่งผู้บริหารครู,data!$A$2,a_sizeเสื้อ,I30) -> 0 | J31: =COUNTIFS(ตำแหน่งผู้บริหารครู,data!$A$2,a_sizeเสื้อ,J30) -> 0 | ... M31: =COUNTIFS(ตำแหน่งผู้บริหารครู,data!$A$2,a_sizeเสื้อ,M30) -> 0 | N31: =SUM(C31:M31) -> 0
A32: 2 | B32: จำนวนรองผู้อำนวยการ | C32: =COUNTIFS(ตำแหน่งผู้บริหารครู,data!$A$3,a_sizeเสื้อ,C30)+COUNTIFS(ตำแหน่งผู้บริหารครู,data!$A$6,a_sizeเสื้อ,C30) -> 0 | D32: =COUNTIFS(ตำแหน่งผู้บริหารครู,data!$A$3,a_sizeเสื้อ,D30)+COUNTIFS(ตำแหน่งผู้บริหารครู,data!$A$6,a_sizeเสื้อ,D30) -> 0 | E32: =COUNTIFS(ตำแหน่งผู้บริหารครู,data!$A$3,a_sizeเสื้อ,E30)+COUNTIFS(ตำแหน่งผู้บริหารครู,data!$A$6,a_sizeเสื้อ,E30) -> 0 | F32: =COUNTIFS(ตำแหน่งผู้บริหารครู,data!$A$3,a_sizeเสื้อ,F30)+COUNTIFS(ตำแหน่งผู้บริหารครู,data!$A$6,a_sizeเสื้อ,F30) -> 0 | G32: =COUNTIFS(ตำแหน่งผู้บริหารครู,data!$A$3,a_sizeเสื้อ,G30)+COUNTIFS(ตำแหน่งผู้บริหารครู,data!$A$6,a_sizeเสื้อ,G30) -> 0 | H32: =COUNTIFS(ตำแหน่งผู้บริหารครู,data!$A$3,a_sizeเสื้อ,H30)+COUNTIFS(ตำแหน่งผู้บริหารครู,data!$A$6,a_sizeเสื้อ,H30) -> 0 | I32: =COUNTIFS(ตำแหน่งผู้บริหารครู,data!$A$3,a_sizeเสื้อ,I30)+COUNTIFS(ตำแหน่งผู้บริหารครู,data!$A$6,a_sizeเสื้อ,I30) -> 0 | J32: =COUNTIFS(ตำแหน่งผู้บริหารครู,data!$A$3,a_sizeเสื้อ,J30)+COUNTIFS(ตำแหน่งผู้บริหารครู,data!$A$6,a_sizeเสื้อ,J30) -> 0 | ... M32: =COUNTIFS(ตำแหน่งผู้บริหารครู,data!$A$3,a_sizeเสื้อ,M30)+COUNTIFS(ตำแหน่งผู้บริหารครู,data!$A$6,a_sizeเสื้อ,M30) -> 0 | N32: =SUM(C32:M32) -> 0
A33: 3 | B33: จำนวนข้าราชการครูและบุคลากรในสังกัด | C33: =COUNTIFS(ตำแหน่งผู้บริหารครู,data!$A$4,a_sizeเสื้อ,C30)+COUNTIFS(ตำแหน่งผู้บริหารครู,data!$A$7,a_sizeเสื้อ,C30) -> 0 | D33: =COUNTIFS(ตำแหน่งผู้บริหารครู,data!$A$4,a_sizeเสื้อ,D30)+COUNTIFS(ตำแหน่งผู้บริหารครู,data!$A$7,a_sizeเสื้อ,D30) -> 0 | E33: =COUNTIFS(ตำแหน่งผู้บริหารครู,data!$A$4,a_sizeเสื้อ,E30)+COUNTIFS(ตำแหน่งผู้บริหารครู,data!$A$7,a_sizeเสื้อ,E30) -> 0 | F33: =COUNTIFS(ตำแหน่งผู้บริหารครู,data!$A$4,a_sizeเสื้อ,F30)+COUNTIFS(ตำแหน่งผู้บริหารครู,data!$A$7,a_sizeเสื้อ,F30) -> 0 | G33: =COUNTIFS(ตำแหน่งผู้บริหารครู,data!$A$4,a_sizeเสื้อ,G30)+COUNTIFS(ตำแหน่งผู้บริหารครู,data!$A$7,a_sizeเสื้อ,G30) -> 0 | H33: =COUNTIFS(ตำแหน่งผู้บริหารครู,data!$A$4,a_sizeเสื้อ,H30)+COUNTIFS(ตำแหน่งผู้บริหารครู,data!$A$7,a_sizeเสื้อ,H30) -> 0 | I33: =COUNTIFS(ตำแหน่งผู้บริหารครู,data!$A$4,a_sizeเสื้อ,I30)+COUNTIFS(ตำแหน่งผู้บริหารครู,data!$A$7,a_sizeเสื้อ,I30) -> 0 | J33: =COUNTIFS(ตำแหน่งผู้บริหารครู,data!$A$4,a_sizeเสื้อ,J30)+COUNTIFS(ตำแหน่งผู้บริหารครู,data!$A$7,a_sizeเสื้อ,J30) -> 0 | ... M33: =COUNTIFS(ตำแหน่งผู้บริหารครู,data!$A$4,a_sizeเสื้อ,M30)+COUNTIFS(ตำแหน่งผู้บริหารครู,data!$A$7,a_sizeเสื้อ,M30) -> 0 | N33: =SUM(C33:M33) -> 0
A34: 4 | B34: จำนวนนักเรียน | C34: =COUNTIFS(ตำแหน่งผู้บริหารครู,data!$A$5,a_sizeเสื้อ,C30) -> 0 | D34: =COUNTIFS(ตำแหน่งผู้บริหารครู,data!$A$5,a_sizeเสื้อ,D30) -> 0 | E34: =COUNTIFS(ตำแหน่งผู้บริหารครู,data!$A$5,a_sizeเสื้อ,E30) -> 0 | F34: =COUNTIFS(ตำแหน่งผู้บริหารครู,data!$A$5,a_sizeเสื้อ,F30) -> 0 | G34: =COUNTIFS(ตำแหน่งผู้บริหารครู,data!$A$5,a_sizeเสื้อ,G30) -> 0 | H34: =COUNTIFS(ตำแหน่งผู้บริหารครู,data!$A$5,a_sizeเสื้อ,H30) -> 0 | I34: =COUNTIFS(ตำแหน่งผู้บริหารครู,data!$A$5,a_sizeเสื้อ,I30) -> 0 | J34: =COUNTIFS(ตำแหน่งผู้บริหารครู,data!$A$5,a_sizeเสื้อ,J30) -> 0 | ... M34: =COUNTIFS(ตำแหน่งผู้บริหารครู,data!$A$5,a_sizeเสื้อ,M30) -> 0 | N34: =SUM(C34:M34) -> 0
B35: รวมทั้งสิ้น | C35: =SUM(C31:C34) -> 0 | D35: =SUM(D31:D34) -> 0 | E35: =SUM(E31:E34) -> 0 | F35: =SUM(F31:F34) -> 0 | G35: =SUM(G31:G34) -> 0 | H35: =SUM(H31:H34) -> 0 | I35: =SUM(I31:I34) -> 0 | J35: =SUM(J31:J34) -> 0 | ... N35: =SUM(N31:N34) -> 0
C37: ยอดเงินที่นำส่ง | D37: =F3 -> 0 | H37: =F4 -> (ศูนย์บาทถ้วน)
C38: หมายเหตุ
C40: ลงชื่อ | H40: ผู้นำส่งเงิน | I40: £ | J40: โอน | K40: £ | L40: เงินสด
D41: (..................................................................................)
C42: ตำแหน่ง | D42: …...................................................................
C43: เบอร์โทร | D43: …...................................................................
D44: วันที่..............เดือน......................................พ.ศ...................
C46: ลงชื่อ | H46: ผู้รับเงิน | I46: £ | J46: ถูกต้อง | K46: £ | L46: ไม่ถูกต้อง
D47: (..................................................................................)
C48: ตำแหน่ง | D48: …...................................................................
C49: เบอร์โทร | D49: …...................................................................
D50: วันที่..............เดือน......................................พ.ศ...................

Sheet data
A1: ตำแหน่ง | B1: คำนำหน้าชื่อ | D1: เลือกชื่อโรงเรียน | E1: สห | J1: รุ่นประเภท | L1: size เสื้อ | N1: เพศ | Q1: ชื่อโรงเรียน | R1: ชื่อโรงเรียน | S1: ชาย | T1: หญิง | U1: รวมทั้งหมด
A2: ผู้อำนวยการ | B2: นาย | D2: โรงเรียนสุรวิทยาคาร | E2: 1 | F2: =VLOOKUP(D2,จำนวนนักเรียน,4,FALSE) -> 3411 | J2: FUNRUN | L2: JS | N2: ชาย | Q2: สุรวิทยาคาร | R2: ="โรงเรียน"&Q2 -> โรงเรียนสุรวิทยาคาร | S2: 2122 | T2: 1289 | U2: 3411
A3: รองผู้อำนวยการ | B3: นางสาว | D3: โรงเรียนวีรวัฒน์โยธิน | E3: 1 | F3: =VLOOKUP(D3,จำนวนนักเรียน,4,FALSE) -> 2567 | J3: Mini Marathon | L3: JM | N3: หญิง | Q3: สิรินธร | R3: ="โรงเรียน"&Q3 -> โรงเรียนสิรินธร | S3: 427 | T3: 2806 | U3: 3233
A4: ข้าราชการครูและบุคลากรในสังกัด | B4: นาง | D4: โรงเรียนมหิธรวิทยา | E4: 1 | F4: =VLOOKUP(D4,จำนวนนักเรียน,4,FALSE) -> 100 | J4: Half Marathon | L4: JL | Q4: สวายวิทยาคาร | R4: ="โรงเรียน"&Q4 -> โรงเรียนสวายวิทยาคาร | S4: 361 | T4: 300 | U4: 661
A5: นักเรียน | B5: เด็กชาย | D5: โรงเรียนสุรินทร์ราชมงคล | E5: 1 | F5: =VLOOKUP(D5,จำนวนนักเรียน,4,FALSE) -> 211 | L5: JXL | Q5: นาดีวิทยา | R5: ="โรงเรียน"&Q5 -> โรงเรียนนาดีวิทยา | S5: 262 | T5: 257 | U5: 519
A6: รองผู้อำนวยการ(VIP) | B6: เด็กหญิง | D6: โรงเรียนศรีไผทสมันต์ | E6: 1 | F6: =VLOOKUP(D6,จำนวนนักเรียน,4,FALSE) -> 221 | L6: S | Q6: ศรีไผทสมันต์ | R6: ="โรงเรียน"&Q6 -> โรงเรียนศรีไผทสมันต์ | S6: 138 | T6: 83 | U6: 221
A7: ข้าราชการครูและบุคลากรในสังกัด(VIP) | B7: ดร. | D7: โรงเรียนนาบัววิทยา | E7: 1 | F7: =VLOOKUP(D7,จำนวนนักเรียน,4,FALSE) -> 214 | L7: M | Q7: รามวิทยา รัชมังคลาภิเษก | R7: ="โรงเรียน"&Q7 -> โรงเรียนรามวิทยา รัชมังคลาภิเษก | S7: 550 | T7: 644 | U7: 1194
B8: Mr. | D8: โรงเรียนเทนมีย์มิตรประชา | E8: 1 | F8: =VLOOKUP(D8,จำนวนนักเรียน,4,FALSE) -> 245 | L8: L | Q8: สุรินทร์ภักดี | R8: ="โรงเรียน"&Q8 -> โรงเรียนสุรินทร์ภักดี | S8: 90 | T8: 49 | U8: 139
B9: Miss | D9: โรงเรียนแสงทรัพย์ประชาวิทยาคาร | E9: 1 | F9: =VLOOKUP(D9,จำนวนนักเรียน,4,FALSE) -> 49 | L9: XL | Q9: พญารามวิทยา | R9: ="โรงเรียน"&Q9 -> โรงเรียนพญารามวิทยา | S9: 123 | T9: 128 | U9: 251
B10: Mrs. | D10: โรงเรียนสวายวิทยาคาร | E10: 1 | F10: =VLOOKUP(D10,จำนวนนักเรียน,4,FALSE) -> 661 | L10: 2XL | Q10: สุรินทร์ราชมงคล | R10: ="โรงเรียน"&Q10 -> โรงเรียนสุรินทร์ราชมงคล | S10: 187 | T10: 24 | U10: 211
B11: พันจ่าเอก | D11: โรงเรียนสิรินธร | E11: 2 | F11: =VLOOKUP(D11,จำนวนนักเรียน,4,FALSE) -> 3233 | L11: 3XL | Q11: โชคเพชรพิทยา | R11: ="โรงเรียน"&Q11 -> โรงเรียนโชคเพชรพิทยา | S11: 104 | T11: 84 | U11: 188
B12: ว่าที่ร้อยตรี | D12: โรงเรียนโชคเพชรพิทยา | E12: 2 | F12: =VLOOKUP(D12,จำนวนนักเรียน,4,FALSE) -> 188 | L12: 4XL | Q12: สุรินทร์พิทยาคม | R12: ="โรงเรียน"&Q12 -> โรงเรียนสุรินทร์พิทยาคม | S12: 113 | T12: 90 | U12: 203
B13: สิบเอกหญิง | D13: โรงเรียนท่าสว่างวิทยา | E13: 2 | F13: =VLOOKUP(D13,จำนวนนักเรียน,4,FALSE) -> 180 | Q13: วีรวัฒน์โยธิน | R13: ="โรงเรียน"&Q13 -> โรงเรียนวีรวัฒน์โยธิน | S13: 1183 | T13: 1384 | U13: 2567
B14: ว่าที่ร้อยโท | D14: โรงเรียนนาดีวิทยา | E14: 2 | F14: =VLOOKUP(D14,จำนวนนักเรียน,4,FALSE) -> 519 | Q14: มหิธรวิทยา | R14: ="โรงเรียน"&Q14 -> โรงเรียนมหิธรวิทยา | S14: 47 | T14: 53 | U14: 100
B15: ว่าที่ร้อยเอก | D15: โรงเรียนพญารามวิทยา | E15: 2 | F15: =VLOOKUP(D15,จำนวนนักเรียน,4,FALSE) -> 251 | Q15: นาบัววิทยา | R15: ="โรงเรียน"&Q15 -> โรงเรียนนาบัววิทยา | S15: 112 | T15: 102 | U15: 214
B16: จ่าสิบตรี | D16: โรงเรียนตั้งใจวิทยาคม | E16: 2 | F16: =VLOOKUP(D16,จำนวนนักเรียน,4,FALSE) -> 176 | Q16: ศรีรามประชาสรรค์ | R16: ="โรงเรียน"&Q16 -> โรงเรียนศรีรามประชาสรรค์ | S16: 57 | T16: 73 | U16: 130
B17: สิบเอก | D17: โรงเรียนสุรินทร์ภักดี | E17: 2 | F17: =VLOOKUP(D17,จำนวนนักเรียน,4,FALSE) -> 139 | Q17: ตั้งใจวิทยาคม | R17: ="โรงเรียน"&Q17 -> โรงเรียนตั้งใจวิทยาคม | S17: 97 | T17: 79 | U17: 176
B18: สิบตำรวจตรีหญิง | D18: โรงเรียนรามวิทยา รัชมังคลาภิเษก | E18: 2 | F18: =VLOOKUP(D18,จำนวนนักเรียน,4,FALSE) -> 1194 | Q18: ท่าสว่างวิทยา | R18: ="โรงเรียน"&Q18 -> โรงเรียนท่าสว่างวิทยา | S18: 87 | T18: 93 | U18: 180
B19: พลตำรวจสำรอง | D19: โรงเรียนศรีรามประชาสรรค์ | E19: 2 | F19: =VLOOKUP(D19,จำนวนนักเรียน,4,FALSE) -> 130 | Q19: แสงทรัพย์ประชาวิทยาคาร | R19: ="โรงเรียน"&Q19 -> โรงเรียนแสงทรัพย์ประชาวิทยาคาร | S19: 31 | T19: 18 | U19: 49
B20: ว่าที่ร้อยตรีหญิง | D20: โรงเรียนสุรินทร์พิทยาคม | E20: 2 | F20: =VLOOKUP(D20,จำนวนนักเรียน,4,FALSE) -> 203 | Q20: เทนมีย์มิตรประชา | R20: ="โรงเรียน"&Q20 -> โรงเรียนเทนมีย์มิตรประชา | S20: 116 | T20: 129 | U20: 245
B21: สิบตำรวจตรี | D21: โรงเรียนจอมพระประชาสรรค์ | E21: 3 | F21: =VLOOKUP(D21,จำนวนนักเรียน,4,FALSE) -> 2083 | Q21: จอมพระประชาสรรค์ | R21: ="โรงเรียน"&Q21 -> โรงเรียนจอมพระประชาสรรค์ | S21: 812 | T21: 1271 | U21: 2083
D22: โรงเรียนสุรพินท์พิทยา | E22: 3 | F22: =VLOOKUP(D22,จำนวนนักเรียน,4,FALSE) -> 1604 | Q22: เมืองลีงวิทยา | R22: ="โรงเรียน"&Q22 -> โรงเรียนเมืองลีงวิทยา | S22: 124 | T22: 117 | U22: 241
D23: โรงเรียนสินรินทร์วิทยา | E23: 3 | F23: =VLOOKUP(D23,จำนวนนักเรียน,4,FALSE) -> 654 | Q23: บุแกรงวิทยาคม | R23: ="โรงเรียน"&Q23 -> โรงเรียนบุแกรงวิทยาคม | S23: 177 | T23: 169 | U23: 346
D24: โรงเรียนเมืองลีงวิทยา | E24: 3 | F24: =VLOOKUP(D24,จำนวนนักเรียน,4,FALSE) -> 241 | Q24: หนองสนิทวิทยา | R24: ="โรงเรียน"&Q24 -> โรงเรียนหนองสนิทวิทยา | S24: 131 | T24: 117 | U24: 248
D25: โรงเรียนบุแกรงวิทยาคม | E25: 3 | F25: =VLOOKUP(D25,จำนวนนักเรียน,4,FALSE) -> 346 | Q25: ศีขรภูมิพิสัย | R25: ="โรงเรียน"&Q25 -> โรงเรียนศีขรภูมิพิสัย | S25: 1027 | T25: 1458 | U25: 2485
D26: โรงเรียนหนองสนิทวิทยา | E26: 3 | F26: =VLOOKUP(D26,จำนวนนักเรียน,4,FALSE) -> 248 | Q26: แตลศิริวิทยา | R26: ="โรงเรียน"&Q26 -> โรงเรียนแตลศิริวิทยา | S26: 190 | T26: 255 | U26: 445
D27: โรงเรียนแร่วิทยา | E27: 3 | F27: =VLOOKUP(D27,จำนวนนักเรียน,4,FALSE) -> 92 | Q27: ห้วยจริงวิทยา | R27: ="โรงเรียน"&Q27 -> โรงเรียนห้วยจริงวิทยา | S27: 216 | T27: 285 | U27: 501
D28: โรงเรียนบึงนครประชาสรรค์ | E28: 3 | F28: =VLOOKUP(D28,จำนวนนักเรียน,4,FALSE) -> 45 | Q28: กุดไผทประชาสรรค์ | R28: ="โรงเรียน"&Q28 -> โรงเรียนกุดไผทประชาสรรค์ | S28: 118 | T28: 116 | U28: 234
D29: โรงเรียนพนาสนวิทยา | E29: 3 | F29: =VLOOKUP(D29,จำนวนนักเรียน,4,FALSE) -> 423 | Q29: จารย์วิทยาคาร | R29: ="โรงเรียน"&Q29 -> โรงเรียนจารย์วิทยาคาร | S29: 99 | T29: 89 | U29: 188
D30: โรงเรียนศีขรภูมิพิสัย | E30: 4 | F30: =VLOOKUP(D30,จำนวนนักเรียน,4,FALSE) -> 2485 | Q30: มัธยมจารพัตวิทยา | R30: ="โรงเรียน"&Q30 -> โรงเรียนมัธยมจารพัตวิทยา | S30: 85 | T30: 57 | U30: 142
D31: โรงเรียนสำโรงทาบวิทยาคม | E31: 4 | F31: =VLOOKUP(D31,จำนวนนักเรียน,4,FALSE) -> 1510 | Q31: หนองแวงวิทยาคม | R31: ="โรงเรียน"&Q31 -> โรงเรียนหนองแวงวิทยาคม | S31: 232 | T31: 298 | U31: 530
D32: โรงเรียนหนองแวงวิทยาคม | E32: 4 | F32: =VLOOKUP(D32,จำนวนนักเรียน,4,FALSE) -> 530 | Q32: ขวาวใหญ่วิทยา | R32: ="โรงเรียน"&Q32 -> โรงเรียนขวาวใหญ่วิทยา | S32: 49 | T32: 48 | U32: 97
D33: โรงเรียนห้วยจริงวิทยา | E33: 4 | F33: =VLOOKUP(D33,จำนวนนักเรียน,4,FALSE) -> 501 | Q33: วังข่าพัฒนา | R33: ="โรงเรียน"&Q33 -> โรงเรียนวังข่าพัฒนา | S33: 73 | T33: 84 | U33: 157
... D86: โรงเรียนมัธยมศรีสำเภาลูน | E86: 8 | F86: =VLOOKUP(D86,จำนวนนักเรียน,4,FALSE) -> 205 | Q86: ศรีณรงค์พิทยาลัย | R86: ="โรงเรียน"&Q86 -> โรงเรียนศรีณรงค์พิทยาลัย | S86: 127 | T86: 188 | U86: 315
D87: สพม.สร. | E87: 0 | F87: 0 | U87: =SUM(U2:U86) -> 54484
F88: =SUM(F2:F87) -> 54484
