Workbook

Sheet ปก
A4: แบบบันทึกผลการเรียนประจำรายวิชา
A5: โรงเรียน | B5: =ข้อมูลพื้นฐาน!B2 -> โรงเรียนโนนแดงวิทยาคม
A6: อำเภอ / เขต | C6: =ข้อมูลพื้นฐาน!B3 -> บรบือ | I6: จังหวัด | K6: =ข้อมูลพื้นฐาน!B4 -> มหาสารคาม
A7: ชั้นมัธยมศึกษาปีที่ | C7: =ข้อมูลพื้นฐาน!D2 -> 5 | E7: ห้อง | F7: =ข้อมูลพื้นฐาน!D3 -> 1 | H7: ภาคเรียนที่ | J7: =ข้อมูลพื้นฐาน!B11 -> 1 | L7: ปีการศึกษา | N7: =ข้อมูลพื้นฐาน!B10 -> 2569
A8: กลุ่มสาระการเรียนรู้ | D8: =ข้อมูลพื้นฐาน!D4 -> วิทยาศาสตร์และเทคโนโลยี | J8: ประเภทวิชา | M8: =ข้อมูลพื้นฐาน!D5 -> พื้นฐาน
A9: รายวิชา | B9: =ข้อมูลพื้นฐาน!D6 -> ออกแบบและเทคโนโลยี | G9: รหัสวิชา | I9: =ข้อมูลพื้นฐาน!D7 -> ว32102
A10: หน่วยกิต | B10: =J10*0.5 -> 0.5 | H10: เวลาเรียน | J10: =ข้อมูลพื้นฐาน!D8 -> 1 | L10: ชั่วโมง/สัปดาห์
A11: ครูผู้สอน | B11: =ข้อมูลพื้นฐาน!D9 -> นายธีรภาพ ตะโคตร
A12: ครูที่ปรึกษา | B12: =ข้อมูลพื้นฐาน!D10&" "&ข้อมูลพื้นฐาน!D11&" "&ข้อมูลพื้นฐาน!D12 -> 1 นางสุนิสา พารา 2 นายธีรภาพ ตะโคตร 3 นายวิศิษย์ ทอนมาตร์
A13: สรุปผลการประเมิน
A14: จำนวนนักเรียน | C14: จำนวนนักเรียนที่ได้ระดับผลการเรียน | M14: หมายเหตุ
C15: 4 | D15: 3.5 | E15: 3 | F15: 2.5 | G15: 2 | H15: 1.5 | I15: 1 | J15: 0 | K15: ร | L15: มส
A16: =SUM(C16:L16) -> 19 | C16: =COUNTIF(คะแนน!AI6:AI35,4) -> 0 | D16: =COUNTIF(คะแนน!$AI6:$AI35,3.5) -> 0 | E16: =COUNTIF(คะแนน!$AI6:$AI35,3) -> 0 | F16: =COUNTIF(คะแนน!$AI6:$AI35,2.5) -> 0 | G16: =COUNTIF(คะแนน!$AI6:$AI35,2) -> 0 | H16: =COUNTIF(คะแนน!$AI6:$AI35,1.5) -> 0 | I16: =COUNTIF(คะแนน!$AI6:$AI35,1) -> 0 | J16: =COUNTIF(คะแนน!$AI6:$AI35,0) -> 19 | K16: =COUNTIF(คะแนน!$AI6:$AI24,"ร") -> 0 | L16: =COUNTIF(คะแนน!$AI6:$AI24,"มส") -> 0
A17: คิดเป็นร้อยละ | C17: =(C16*100)/A16 -> 0 | D17: =(D16*100)/A16 -> 0 | E17: =(E16*100)/A16 -> 0 | F17: =(F16*100)/$A16 -> 0 | G17: =(G16*100)/$A16 -> 0 | H17: =(H16*100)/$A16 -> 0 | I17: =(I16*100)/$A16 -> 0 | J17: =(J16*100)/$A16 -> 100 | K17: =(K16*100)/$A16 -> 0 | L17: =(L16*100)/$A16 -> 0
A19: ผลการประเมินคุณลักษณะอันพึงประสงค์ | I19: ผลการประเมินการอ่านคิดวิเคราะห์และเขียน
A20: 3=ดีเยี่ยม | B20: 2=ดี | D20: 1=ผ่าน | F20: 0=ไม่ผ่าน | I20: 3=ดีเยี่ยม | K20: 2=ดี | M20: 1=ผ่าน | O20: 0=ไม่ผ่าน
A21: =COUNTIF(คุณลักษณะ!$N6:$N35,3) -> 0 | B21: =COUNTIF(คุณลักษณะ!$N6:$N35,2) -> 0 | D21: =COUNTIF(คุณลักษณะ!$N6:$N35,1) -> 0 | F21: =COUNTIF(คุณลักษณะ!$N6:$N35,0) -> 19 | I21: =COUNTIF(อ่านคิดเขียน!$N6:$N35,3) -> 0 | K21: =COUNTIF(อ่านคิดเขียน!$N6:$N35,2) -> 0 | M21: =COUNTIF(อ่านคิดเขียน!$N6:$N35,1) -> 0 | O21: =COUNTIF(อ่านคิดเขียน!$N6:$N35,0) -> 19
A22: =SUM(A21*100/A16) -> 0 | B22: =(B21*100)/A16 -> 0 | D22: =(D21*100)/A16 -> 0 | F22: =(F21*100)/A16 -> 100 | I22: =(I21*100)/A16 -> 0 | K22: =(K21*100)/A16 -> 0 | M22: =(M21*100)/A16 -> 0 | O22: =(O21*100)/A16 -> 100
E24: ลงชื่อ | K24: ครูผู้สอน
E25: ลงชื่อ | K25: หัวหน้ากลุ่มสาระการเรียนรู้
E26: ลงชื่อ | K26: หัวหน้างานทะเบียนวัดผล
E27: ลงชื่อ | K27: ผู้ช่วยผู้อำนวยการฝ่ายวิชาการ
A29: เรียนเสนอเพื่อโปรดพิจารณา | H29: ผลการพิจารณา/สั่งการ
A30: ( ) เห็นควรอนุมัติ ( ) เห็นควรปรับปรุงแก้ไข | H30: ( ) อนุมัติ ( ) ไม่อนุมัติ ให้ปรับปรุงแก้ไข
A31: ลงชื่อ_______________รองผู้อำนวยการ | H31: ลงชื่อ______________ผู้อำนวยการโรงเรียน
A32: =ข้อมูลพื้นฐาน!B7 -> นายพุฒิพงษ์ จันดาโชต | H32: =ข้อมูลพื้นฐาน!B6 -> ว่าที่ร้อยตรีหญิงปรางทิพย์ พินิจ
A33: วันที่ | H33: วันที่

Sheet ข้อมูลพื้นฐาน
A1: ข้อมูลพื้นฐาน
A2: ชื่อสถานศึกษา | B2: โรงเรียนโนนแดงวิทยาคม | C2: ชั้นมัธยมศึกษาปีที่ | D2: 5
A3: อำเภอ | B3: บรบือ | C3: ห้อง | D3: 1
A4: จังหวัด | B4: มหาสารคาม | C4: กลุ่มสาระ | D4: วิทยาศาสตร์และเทคโนโลยี
A5: สำนักงานเขต | B5: สพม.มหาสารคาม | C5: ประเภทวิชา | D5: พื้นฐาน
A6: ชื่อผู้อำนวยการ | B6: ว่าที่ร้อยตรีหญิงปรางทิพย์ พินิจ | C6: รายวิชา | D6: ออกแบบและเทคโนโลยี
A7: ชื่อผู้ช่วยผู้อำนวยการ | B7: นายพุฒิพงษ์ จันดาโชต | C7: รหัสวิชา | D7: ว32102
A8: ตำแหน่งฝ่ายวัดผล | B8: หัวหน้างานวัดและประเมินผล | C8: เวลาเรียน | D8: 1 | E8: ชั่วโมง/สัปดาห์
A9: ตำแหน่งฝ่ายวิชาการ | B9: ผู้ช่วยผู้อำนวยการฝ่ายวิชาการ | C9: ครูผู้สอน | D9: นายธีรภาพ ตะโคตร
A10: ปีการศึกษา | B10: 2569 | C10: ครูที่ปรึกษา | D10: 1 นางสุนิสา พารา
A11: ภาคเรียนที่ | B11: 1 | D11: 2 นายธีรภาพ ตะโคตร
D12: 3 นายวิศิษย์ ทอนมาตร์

Sheet ใบรายชื่อ
A1: =W3 -> 0 | B1: รายชื่อนักเรียน ปีการศึกษา 2569
C2: โรงเรียนโนนแดงวิทยาคม อำเภอบรบือ จังหวัดมหาสารคาม | L2: ระดับชั้นมัธยมศึกษาปีที่ | S2: =ข้อมูลพื้นฐาน!D2 -> 5 | T2: ห้อง | V2: =ข้อมูลพื้นฐาน!D3 -> 1
C3: สำนักงานเขตพื้นที่การศึกษามัธยมศึกษามหาสารคาม | K3: ชาย | M3: =COUNTIF(C6:C35,"นาย*")+COUNTIF(C6:C35,"เด็กชาย*")+COUNTIF(C6:C35,"ด.ช.*") -> 10 | O3: หญิง | Q3: =COUNTIF(C6:C35,"นางสาว*")+COUNTIF(C6:C35,"เด็กหญิง*")+COUNTIF(C6:C35,"ด.ญ.*")+COUNTIF(C6:C35,"น.ส.*") -> 9 | S3: รวม | U3: =M3+Q3 -> 19
C4: ครูประจำชั้น | D4: =ข้อมูลพื้นฐาน!D10&" "&ข้อมูลพื้นฐาน!D11&" "&ข้อมูลพื้นฐาน!D12 -> 1 นางสุนิสา พารา 2 นายธีรภาพ ตะโคตร 3 นายวิศิษย์ ทอนมาตร์
A5: เลขที่ | B5: เลขประจำตัว | C5: รายชื่อ
A6: 1 | B6: 03964 | C6: นายคฑาทิปศิ์ มีลักษณ์
A7: 2 | B7: 03965 | C7: นายฉัตรดนัย เทียงทำ
A8: 3 | B8: 30969 | C8: นายธนากร ช่อหนองแสง
A9: 4 | B9: 03971 | C9: นายธวัฒชัย นารีแก้ว
A10: 5 | B10: 03974 | C10: นายพลธกร ทศไกร
A11: 6 | B11: 03975 | C11: นายภูมิณฤทธิ์ ฉิมจารย์
A12: 7 | B12: 03978 | C12: นายศักดินนท์ เหลือมพล
A13: 8 | B13: 03979 | C13: นายสหรัฐ ขันทะรักษา
A14: 9 | B14: 03980 | C14: นายอนุพน ประทาน
A15: 10 | B15: 03981 | C15: นายอัครศาสน์ แดงดี
A16: 11 | B16: 03984 | C16: น.ส.ธิดาพร วงษ์โชติ
A17: 12 | B17: 03985 | C17: น.ส.พรพิมล ปะตังถาเน
... A24: 19 | B24: 03995 | C24: น.ส.ศิริวิภา แก้วยา
A25: 20
A26: 21
A27: 22
A28: 23
A29: 24
A30: 25
A31: 26
A32: 27
A33: 28
A34: 29
A35: 30

Sheet เวลาเรียน
A1: รายวิชา | C1: =ข้อมูลพื้นฐาน!D6 -> ออกแบบและเทคโนโลยี | F1: รหัสวิชา | H1: =ข้อมูลพื้นฐาน!D7 -> ว32102 | J1: ภาคเรียน | L1: =ข้อมูลพื้นฐาน!B11 -> 1 | M1: ปีการศึกษา | P1: =ข้อมูลพื้นฐาน!B10 -> 2569 | S1: รายวิชา | U1: =C1 -> ออกแบบและเทคโนโลยี | X1: รหัสวิชา | Z1: =H1 -> ว32102 | AB1: ภาคเรียน | AD1: =L1 -> 1 | AE1: ปีการศึกษา | AH1: =P1 -> 2569
A2: ระดับชั้น มัธยมศึกษาปีที่ | D2: =ข้อมูลพื้นฐาน!D2 -> 5 | E2: ห้อง | F2: =ข้อมูลพื้นฐาน!D3 -> 1 | I2: เวลาเรียน | L2: =ข้อมูลพื้นฐาน!D8 -> 1 | M2: ชั่วโมง/สัปดาห์ | S2: ระดับชั้น มัธยมศึกษาปีที่ | V2: =D2 -> 5 | W2: ห้อง | X2: =F2 -> 1 | AA2: เวลาเรียน | AC2: =L2 -> 1 | AD2: ชั่วโมง/สัปดาห์
A3: เลขที่ | B3: เลข ประจำตัว | C3: ชื่อ - ชื่อสกุล | F3: ชั่วโมง | G3: 1 | H3: 2 | I3: 3 | J3: 4 | K3: 5 | L3: 6 | M3: 7 | N3: 8 | O3: 9 | P3: 10 | Q3: 11 | R3: 12 | S3: เลขที่ | T3: เลข ประจำตัว | U3: ชื่อ - ชื่อสกุล | X3: ชั่วโมง | Y3: 13 | Z3: 14 | AA3: 15 | AB3: 16 | AC3: 17 | AD3: 18 | AE3: 19 | AF3: 20 | AG3: สรุปเวลาเรียน
F4: วัน | X4: วัน
F5: วันที่ | X5: วันที่ | AG5: มาเรียน (ชม.) | AH5: จำนวนเต็ม (ชม.) | AI5: คิดเป็น ร้อยละ
F6: เดือน | X6: เดือน
F7: พ.ศ. | X7: พ.ศ.
A8: =ใบรายชื่อ!A6 -> 1 | B8: =IF(ใบรายชื่อ!B6="","",ใบรายชื่อ!B6) -> 03964 | C8: =IF(ใบรายชื่อ!C6="","",ใบรายชื่อ!C6) -> นายคฑาทิปศิ์ มีลักษณ์ | S8: =A8 -> 1 | T8: =B8 -> 03964 | U8: =C8 -> นายคฑาทิปศิ์ มีลักษณ์ | AG8: =IF(U8="","",SUM(G8:R8,Y8:AF8)*$AC$2) -> 0 | AH8: =IF(U8="","",20*$AC$2) -> 20 | AI8: =IF(U8="","",(AG8*100)/AH8) -> 0
A9: =ใบรายชื่อ!A7 -> 2 | B9: =IF(ใบรายชื่อ!B7="","",ใบรายชื่อ!B7) -> 03965 | C9: =IF(ใบรายชื่อ!C7="","",ใบรายชื่อ!C7) -> นายฉัตรดนัย เทียงทำ | S9: =A9 -> 2 | T9: =B9 -> 03965 | U9: =C9 -> นายฉัตรดนัย เทียงทำ | AG9: =IF(U9="","",SUM(G9:R9,Y9:AF9)*$AC$2) -> 0 | AH9: =IF(U9="","",20*$AC$2) -> 20 | AI9: =IF(U9="","",(AG9*100)/AH9) -> 0
A10: =ใบรายชื่อ!A8 -> 3 | B10: =IF(ใบรายชื่อ!B8="","",ใบรายชื่อ!B8) -> 30969 | C10: =IF(ใบรายชื่อ!C8="","",ใบรายชื่อ!C8) -> นายธนากร ช่อหนองแสง | S10: =A10 -> 3 | T10: =B10 -> 30969 | U10: =C10 -> นายธนากร ช่อหนองแสง | AG10: =IF(U10="","",SUM(G10:R10,Y10:AF10)*$AC$2) -> 0 | AH10: =IF(U10="","",20*$AC$2) -> 20 | AI10: =IF(U10="","",(AG10*100)/AH10) -> 0
A11: =ใบรายชื่อ!A9 -> 4 | B11: =IF(ใบรายชื่อ!B9="","",ใบรายชื่อ!B9) -> 03971 | C11: =IF(ใบรายชื่อ!C9="","",ใบรายชื่อ!C9) -> นายธวัฒชัย นารีแก้ว | S11: =A11 -> 4 | T11: =B11 -> 03971 | U11: =C11 -> นายธวัฒชัย นารีแก้ว | AG11: =IF(U11="","",SUM(G11:R11,Y11:AF11)*$AC$2) -> 0 | AH11: =IF(U11="","",20*$AC$2) -> 20 | AI11: =IF(U11="","",(AG11*100)/AH11) -> 0
A12: =ใบรายชื่อ!A10 -> 5 | B12: =IF(ใบรายชื่อ!B10="","",ใบรายชื่อ!B10) -> 03974 | C12: =IF(ใบรายชื่อ!C10="","",ใบรายชื่อ!C10) -> นายพลธกร ทศไกร | S12: =A12 -> 5 | T12: =B12 -> 03974 | U12: =C12 -> นายพลธกร ทศไกร | AG12: =IF(U12="","",SUM(G12:R12,Y12:AF12)*$AC$2) -> 0 | AH12: =IF(U12="","",20*$AC$2) -> 20 | AI12: =IF(U12="","",(AG12*100)/AH12) -> 0
A13: =ใบรายชื่อ!A11 -> 6 | B13: =IF(ใบรายชื่อ!B11="","",ใบรายชื่อ!B11) -> 03975 | C13: =IF(ใบรายชื่อ!C11="","",ใบรายชื่อ!C11) -> นายภูมิณฤทธิ์ ฉิมจารย์ | S13: =A13 -> 6 | T13: =B13 -> 03975 | U13: =C13 -> นายภูมิณฤทธิ์ ฉิมจารย์ | AG13: =IF(U13="","",SUM(G13:R13,Y13:AF13)*$AC$2) -> 0 | AH13: =IF(U13="","",20*$AC$2) -> 20 | AI13: =IF(U13="","",(AG13*100)/AH13) -> 0
A14: =ใบรายชื่อ!A12 -> 7 | B14: =IF(ใบรายชื่อ!B12="","",ใบรายชื่อ!B12) -> 03978 | C14: =IF(ใบรายชื่อ!C12="","",ใบรายชื่อ!C12) -> นายศักดินนท์ เหลือมพล | S14: =A14 -> 7 | T14: =B14 -> 03978 | U14: =C14 -> นายศักดินนท์ เหลือมพล | AG14: =IF(U14="","",SUM(G14:R14,Y14:AF14)*$AC$2) -> 0 | AH14: =IF(U14="","",20*$AC$2) -> 20 | AI14: =IF(U14="","",(AG14*100)/AH14) -> 0
A15: =ใบรายชื่อ!A13 -> 8 | B15: =IF(ใบรายชื่อ!B13="","",ใบรายชื่อ!B13) -> 03979 | C15: =IF(ใบรายชื่อ!C13="","",ใบรายชื่อ!C13) -> นายสหรัฐ ขันทะรักษา | S15: =A15 -> 8 | T15: =B15 -> 03979 | U15: =C15 -> นายสหรัฐ ขันทะรักษา | AG15: =IF(U15="","",SUM(G15:R15,Y15:AF15)*$AC$2) -> 0 | AH15: =IF(U15="","",20*$AC$2) -> 20 | AI15: =IF(U15="","",(AG15*100)/AH15) -> 0
A16: =ใบรายชื่อ!A14 -> 9 | B16: =IF(ใบรายชื่อ!B14="","",ใบรายชื่อ!B14) -> 03980 | C16: =IF(ใบรายชื่อ!C14="","",ใบรายชื่อ!C14) -> นายอนุพน ประทาน | S16: =A16 -> 9 | T16: =B16 -> 03980 | U16: =C16 -> นายอนุพน ประทาน | AG16: =IF(U16="","",SUM(G16:R16,Y16:AF16)*$AC$2) -> 0 | AH16: =IF(U16="","",20*$AC$2) -> 20 | AI16: =IF(U16="","",(AG16*100)/AH16) -> 0
A17: =ใบรายชื่อ!A15 -> 10 | B17: =IF(ใบรายชื่อ!B15="","",ใบรายชื่อ!B15) -> 03981 | C17: =IF(ใบรายชื่อ!C15="","",ใบรายชื่อ!C15) -> นายอัครศาสน์ แดงดี | S17: =A17 -> 10 | T17: =B17 -> 03981 | U17: =C17 -> นายอัครศาสน์ แดงดี | AG17: =IF(U17="","",SUM(G17:R17,Y17:AF17)*$AC$2) -> 0 | AH17: =IF(U17="","",20*$AC$2) -> 20 | AI17: =IF(U17="","",(AG17*100)/AH17) -> 0
A18: =ใบรายชื่อ!A16 -> 11 | B18: =IF(ใบรายชื่อ!B16="","",ใบรายชื่อ!B16) -> 03984 | C18: =IF(ใบรายชื่อ!C16="","",ใบรายชื่อ!C16) -> น.ส.ธิดาพร วงษ์โชติ | S18: =A18 -> 11 | T18: =B18 -> 03984 | U18: =C18 -> น.ส.ธิดาพร วงษ์โชติ | AG18: =IF(U18="","",SUM(G18:R18,Y18:AF18)*$AC$2) -> 0 | AH18: =IF(U18="","",20*$AC$2) -> 20 | AI18: =IF(U18="","",(AG18*100)/AH18) -> 0
A19: =ใบรายชื่อ!A17 -> 12 | B19: =IF(ใบรายชื่อ!B17="","",ใบรายชื่อ!B17) -> 03985 | C19: =IF(ใบรายชื่อ!C17="","",ใบรายชื่อ!C17) -> น.ส.พรพิมล ปะตังถาเน | S19: =A19 -> 12 | T19: =B19 -> 03985 | U19: =C19 -> น.ส.พรพิมล ปะตังถาเน | AG19: =IF(U19="","",SUM(G19:R19,Y19:AF19)*$AC$2) -> 0 | AH19: =IF(U19="","",20*$AC$2) -> 20 | AI19: =IF(U19="","",(AG19*100)/AH19) -> 0
... A35: =ใบรายชื่อ!A33 -> 28 | B35: =IF(ใบรายชื่อ!B33="","",ใบรายชื่อ!B33) | C35: =IF(ใบรายชื่อ!C33="","",ใบรายชื่อ!C33) | S35: =A35 -> 28 | T35: =B35 | U35: =C35 | AG35: =IF(U35="","",SUM(G35:R35,Y35:AF35)*$AC$2) | AH35: =IF(U35="","",20*$AC$2) | AI35: =IF(U35="","",(AG35*100)/AH35)
A36: =ใบรายชื่อ!A34 -> 29 | B36: =IF(ใบรายชื่อ!B34="","",ใบรายชื่อ!B34) | C36: =IF(ใบรายชื่อ!C34="","",ใบรายชื่อ!C34) | S36: =A36 -> 29 | AG36: =IF(U36="","",SUM(G36:R36,Y36:AF36)*$AC$2) | AH36: =IF(U36="","",20*$AC$2) | AI36: =IF(U36="","",(AG36*100)/AH36)
A37: =ใบรายชื่อ!A35 -> 30 | B37: =IF(ใบรายชื่อ!B35="","",ใบรายชื่อ!B35) | C37: =IF(ใบรายชื่อ!C35="","",ใบรายชื่อ!C35) | S37: =A37 -> 30 | AG37: =IF(U37="","",SUM(G37:R37,Y37:AF37)*$AC$2) | AH37: =IF(U37="","",20*$AC$2) | AI37: =IF(U37="","",(AG37*100)/AH37)

Sheet คะแนน
A1: รายวิชา | C1: =ข้อมูลพื้นฐาน!D6 -> ออกแบบและเทคโนโลยี | F1: รหัสวิชา | H1: =ข้อมูลพื้นฐาน!D7 -> ว32102 | J1: ภาคเรียน | L1: =ข้อมูลพื้นฐาน!B11 -> 1 | M1: ปีการศึกษา | P1: =ข้อมูลพื้นฐาน!B10 -> 2569 | R1: รายวิชา | T1: =C1 -> ออกแบบและเทคโนโลยี | W1: รหัสวิชา | Z1: =H1 -> ว32102 | AC1: ภาคเรียน | AF1: =L1 -> 1 | AG1: ปีการศึกษา | AI1: =P1 -> 2569
A2: ระดับชั้น มัธยมศึกษาปีที่ | F2: =ข้อมูลพื้นฐาน!D2 -> 5 | G2: ห้อง | H2: =ข้อมูลพื้นฐาน!D3 -> 1 | K2: เวลาเรียน | M2: =ข้อมูลพื้นฐาน!D8 -> 1 | N2: ชั่วโมง/สัปดาห์ | R2: ระดับชั้น มัธยมศึกษาปีที่ | W2: =F2 -> 5 | X2: ห้อง | Y2: =H2 -> 1 | AB2: เวลาเรียน | AD2: =M2 -> 1 | AE2: ชั่วโมง/สัปดาห์
A3: เลขที่ | B3: เลขประจำตัว | C3: ชื่อ-สกุล | F3: คะแนนก่อนกลางภาค | K3: คะแนนกลางภาค | P3: รวม | R3: เลขที่ | S3: เลขประจำตัว | T3: ชื่อ-สกุล | W3: คะแนนหลังกลางภาค | AB3: คะแนนปลายภาค | AG3: รวม | AH3: รวมทั้งสิ้น | AI3: ผล การเรียน | AJ3: หมายเหตุ
F4: 1 | G4: 2 | H4: 3 | I4: 4 | J4: รวม | K4: 1 | L4: 2 | M4: 3 | N4: 4 | O4: รวม | P4: ก่อน+กลาง | W4: 1 | X4: 2 | Y4: 3 | Z4: 4 | AA4: รวม | AB4: 1 | AC4: 2 | AD4: 3 | AE4: 4 | AF4: รวม | AG4: หลัง+ปลาย
J5: =SUM(F5:I5) -> 0 | O5: =SUM(K5:N5) -> 0 | P5: =O5+J5 -> 0 | AA5: =SUM(W5:Z5) -> 0 | AF5: =SUM(AB5:AE5) -> 0 | AG5: =AF5+AA5 -> 0 | AH5: =AG5+P5 -> 0
A6: =ใบรายชื่อ!A6 -> 1 | B6: =IF(ใบรายชื่อ!B6="","",ใบรายชื่อ!B6) -> 03964 | C6: =IF(ใบรายชื่อ!C6="","",ใบรายชื่อ!C6) -> นายคฑาทิปศิ์ มีลักษณ์ | J6: =IF(C6="","",SUM(F6:I6)) -> 0 | O6: =IF(C6="","",SUM(K6:N6)) -> 0 | P6: =IF(C6="","",O6+J6) -> 0 | R6: =A6 -> 1 | S6: =IF(B6="","",B6) -> 03964 | T6: =IF(C6="","",C6) -> นายคฑาทิปศิ์ มีลักษณ์ | AA6: =IF(T6="","",SUM(W6:Z6)) -> 0 | AF6: =IF(T6="","",SUM(AB6:AE6)) -> 0 | AG6: =IF(T6="","",AF6+AA6) -> 0 | AH6: =IF(T6="","",SUM(AF6,AA6,O6,J6)) -> 0 | AI6: =IF(T6="","",IF(AJ6="ร","ร",IF(AJ6="มส","มส",IF(AH6<50,0,IF(AH6<55,1,IF(AH6<60,1.5,IF(AH6<65,2,IF(AH6<70,2.5,IF(AH6<75,3,IF(AH6<80,3.5,IF(AH6<=100,4,"ผิดพลาด"))))))))))) -> 0
A7: =ใบรายชื่อ!A7 -> 2 | B7: =IF(ใบรายชื่อ!B7="","",ใบรายชื่อ!B7) -> 03965 | C7: =IF(ใบรายชื่อ!C7="","",ใบรายชื่อ!C7) -> นายฉัตรดนัย เทียงทำ | J7: =IF(C7="","",SUM(F7:I7)) -> 0 | O7: =IF(C7="","",SUM(K7:N7)) -> 0 | P7: =IF(C7="","",O7+J7) -> 0 | R7: =A7 -> 2 | S7: =IF(B7="","",B7) -> 03965 | T7: =IF(C7="","",C7) -> นายฉัตรดนัย เทียงทำ | AA7: =IF(T7="","",SUM(W7:Z7)) -> 0 | AF7: =IF(T7="","",SUM(AB7:AE7)) -> 0 | AG7: =IF(T7="","",AF7+AA7) -> 0 | AH7: =IF(T7="","",SUM(AF7,AA7,O7,J7)) -> 0 | AI7: =IF(T7="","",IF(AJ7="ร","ร",IF(AJ7="มส","มส",IF(AH7<50,0,IF(AH7<55,1,IF(AH7<60,1.5,IF(AH7<65,2,IF(AH7<70,2.5,IF(AH7<75,3,IF(AH7<80,3.5,IF(AH7<=100,4,"ผิดพลาด"))))))))))) -> 0
A8: =ใบรายชื่อ!A8 -> 3 | B8: =IF(ใบรายชื่อ!B8="","",ใบรายชื่อ!B8) -> 30969 | C8: =IF(ใบรายชื่อ!C8="","",ใบรายชื่อ!C8) -> นายธนากร ช่อหนองแสง | J8: =IF(C8="","",SUM(F8:I8)) -> 0 | O8: =IF(C8="","",SUM(K8:N8)) -> 0 | P8: =IF(C8="","",O8+J8) -> 0 | R8: =A8 -> 3 | S8: =IF(B8="","",B8) -> 30969 | T8: =IF(C8="","",C8) -> นายธนากร ช่อหนองแสง | AA8: =IF(T8="","",SUM(W8:Z8)) -> 0 | AF8: =IF(T8="","",SUM(AB8:AE8)) -> 0 | AG8: =IF(T8="","",AF8+AA8) -> 0 | AH8: =IF(T8="","",SUM(AF8,AA8,O8,J8)) -> 0 | AI8: =IF(T8="","",IF(AJ8="ร","ร",IF(AJ8="มส","มส",IF(AH8<50,0,IF(AH8<55,1,IF(AH8<60,1.5,IF(AH8<65,2,IF(AH8<70,2.5,IF(AH8<75,3,IF(AH8<80,3.5,IF(AH8<=100,4,"ผิดพลาด"))))))))))) -> 0
A9: =ใบรายชื่อ!A9 -> 4 | B9: =IF(ใบรายชื่อ!B9="","",ใบรายชื่อ!B9) -> 03971 | C9: =IF(ใบรายชื่อ!C9="","",ใบรายชื่อ!C9) -> นายธวัฒชัย นารีแก้ว | J9: =IF(C9="","",SUM(F9:I9)) -> 0 | O9: =IF(C9="","",SUM(K9:N9)) -> 0 | P9: =IF(C9="","",O9+J9) -> 0 | R9: =A9 -> 4 | S9: =IF(B9="","",B9) -> 03971 | T9: =IF(C9="","",C9) -> นายธวัฒชัย นารีแก้ว | AA9: =IF(T9="","",SUM(W9:Z9)) -> 0 | AF9: =IF(T9="","",SUM(AB9:AE9)) -> 0 | AG9: =IF(T9="","",AF9+AA9) -> 0 | AH9: =IF(T9="","",SUM(AF9,AA9,O9,J9)) -> 0 | AI9: =IF(T9="","",IF(AJ9="ร","ร",IF(AJ9="มส","มส",IF(AH9<50,0,IF(AH9<55,1,IF(AH9<60,1.5,IF(AH9<65,2,IF(AH9<70,2.5,IF(AH9<75,3,IF(AH9<80,3.5,IF(AH9<=100,4,"ผิดพลาด"))))))))))) -> 0
A10: =ใบรายชื่อ!A10 -> 5 | B10: =IF(ใบรายชื่อ!B10="","",ใบรายชื่อ!B10) -> 03974 | C10: =IF(ใบรายชื่อ!C10="","",ใบรายชื่อ!C10) -> นายพลธกร ทศไกร | J10: =IF(C10="","",SUM(F10:I10)) -> 0 | O10: =IF(C10="","",SUM(K10:N10)) -> 0 | P10: =IF(C10="","",O10+J10) -> 0 | R10: =A10 -> 5 | S10: =IF(B10="","",B10) -> 03974 | T10: =IF(C10="","",C10) -> นายพลธกร ทศไกร | AA10: =IF(T10="","",SUM(W10:Z10)) -> 0 | AF10: =IF(T10="","",SUM(AB10:AE10)) -> 0 | AG10: =IF(T10="","",AF10+AA10) -> 0 | AH10: =IF(T10="","",SUM(AF10,AA10,O10,J10)) -> 0 | AI10: =IF(T10="","",IF(AJ10="ร","ร",IF(AJ10="มส","มส",IF(AH10<50,0,IF(AH10<55,1,IF(AH10<60,1.5,IF(AH10<65,2,IF(AH10<70,2.5,IF(AH10<75,3,IF(AH10<80,3.5,IF(AH10<=100,4,"ผิดพลาด"))))))))))) -> 0
A11: =ใบรายชื่อ!A11 -> 6 | B11: =IF(ใบรายชื่อ!B11="","",ใบรายชื่อ!B11) -> 03975 | C11: =IF(ใบรายชื่อ!C11="","",ใบรายชื่อ!C11) -> นายภูมิณฤทธิ์ ฉิมจารย์ | J11: =IF(C11="","",SUM(F11:I11)) -> 0 | O11: =IF(C11="","",SUM(K11:N11)) -> 0 | P11: =IF(C11="","",O11+J11) -> 0 | R11: =A11 -> 6 | S11: =IF(B11="","",B11) -> 03975 | T11: =IF(C11="","",C11) -> นายภูมิณฤทธิ์ ฉิมจารย์ | AA11: =IF(T11="","",SUM(W11:Z11)) -> 0 | AF11: =IF(T11="","",SUM(AB11:AE11)) -> 0 | AG11: =IF(T11="","",AF11+AA11) -> 0 | AH11: =IF(T11="","",SUM(AF11,AA11,O11,J11)) -> 0 | AI11: =IF(T11="","",IF(AJ11="ร","ร",IF(AJ11="มส","มส",IF(AH11<50,0,IF(AH11<55,1,IF(AH11<60,1.5,IF(AH11<65,2,IF(AH11<70,2.5,IF(AH11<75,3,IF(AH11<80,3.5,IF(AH11<=100,4,"ผิดพลาด"))))))))))) -> 0
A12: =ใบรายชื่อ!A12 -> 7 | B12: =IF(ใบรายชื่อ!B12="","",ใบรายชื่อ!B12) -> 03978 | C12: =IF(ใบรายชื่อ!C12="","",ใบรายชื่อ!C12) -> นายศักดินนท์ เหลือมพล | J12: =IF(C12="","",SUM(F12:I12)) -> 0 | O12: =IF(C12="","",SUM(K12:N12)) -> 0 | P12: =IF(C12="","",O12+J12) -> 0 | R12: =A12 -> 7 | S12: =IF(B12="","",B12) -> 03978 | T12: =IF(C12="","",C12) -> นายศักดินนท์ เหลือมพล | AA12: =IF(T12="","",SUM(W12:Z12)) -> 0 | AF12: =IF(T12="","",SUM(AB12:AE12)) -> 0 | AG12: =IF(T12="","",AF12+AA12) -> 0 | AH12: =IF(T12="","",SUM(AF12,AA12,O12,J12)) -> 0 | AI12: =IF(T12="","",IF(AJ12="ร","ร",IF(AJ12="มส","มส",IF(AH12<50,0,IF(AH12<55,1,IF(AH12<60,1.5,IF(AH12<65,2,IF(AH12<70,2.5,IF(AH12<75,3,IF(AH12<80,3.5,IF(AH12<=100,4,"ผิดพลาด"))))))))))) -> 0
A13: =ใบรายชื่อ!A13 -> 8 | B13: =IF(ใบรายชื่อ!B13="","",ใบรายชื่อ!B13) -> 03979 | C13: =IF(ใบรายชื่อ!C13="","",ใบรายชื่อ!C13) -> นายสหรัฐ ขันทะรักษา | J13: =IF(C13="","",SUM(F13:I13)) -> 0 | O13: =IF(C13="","",SUM(K13:N13)) -> 0 | P13: =IF(C13="","",O13+J13) -> 0 | R13: =A13 -> 8 | S13: =IF(B13="","",B13) -> 03979 | T13: =IF(C13="","",C13) -> นายสหรัฐ ขันทะรักษา | AA13: =IF(T13="","",SUM(W13:Z13)) -> 0 | AF13: =IF(T13="","",SUM(AB13:AE13)) -> 0 | AG13: =IF(T13="","",AF13+AA13) -> 0 | AH13: =IF(T13="","",SUM(AF13,AA13,O13,J13)) -> 0 | AI13: =IF(T13="","",IF(AJ13="ร","ร",IF(AJ13="มส","มส",IF(AH13<50,0,IF(AH13<55,1,IF(AH13<60,1.5,IF(AH13<65,2,IF(AH13<70,2.5,IF(AH13<75,3,IF(AH13<80,3.5,IF(AH13<=100,4,"ผิดพลาด"))))))))))) -> 0
A14: =ใบรายชื่อ!A14 -> 9 | B14: =IF(ใบรายชื่อ!B14="","",ใบรายชื่อ!B14) -> 03980 | C14: =IF(ใบรายชื่อ!C14="","",ใบรายชื่อ!C14) -> นายอนุพน ประทาน | J14: =IF(C14="","",SUM(F14:I14)) -> 0 | O14: =IF(C14="","",SUM(K14:N14)) -> 0 | P14: =IF(C14="","",O14+J14) -> 0 | R14: =A14 -> 9 | S14: =IF(B14="","",B14) -> 03980 | T14: =IF(C14="","",C14) -> นายอนุพน ประทาน | AA14: =IF(T14="","",SUM(W14:Z14)) -> 0 | AF14: =IF(T14="","",SUM(AB14:AE14)) -> 0 | AG14: =IF(T14="","",AF14+AA14) -> 0 | AH14: =IF(T14="","",SUM(AF14,AA14,O14,J14)) -> 0 | AI14: =IF(T14="","",IF(AJ14="ร","ร",IF(AJ14="มส","มส",IF(AH14<50,0,IF(AH14<55,1,IF(AH14<60,1.5,IF(AH14<65,2,IF(AH14<70,2.5,IF(AH14<75,3,IF(AH14<80,3.5,IF(AH14<=100,4,"ผิดพลาด"))))))))))) -> 0
A15: =ใบรายชื่อ!A15 -> 10 | B15: =IF(ใบรายชื่อ!B15="","",ใบรายชื่อ!B15) -> 03981 | C15: =IF(ใบรายชื่อ!C15="","",ใบรายชื่อ!C15) -> นายอัครศาสน์ แดงดี | J15: =IF(C15="","",SUM(F15:I15)) -> 0 | O15: =IF(C15="","",SUM(K15:N15)) -> 0 | P15: =IF(C15="","",O15+J15) -> 0 | R15: =A15 -> 10 | S15: =IF(B15="","",B15) -> 03981 | T15: =IF(C15="","",C15) -> นายอัครศาสน์ แดงดี | AA15: =IF(T15="","",SUM(W15:Z15)) -> 0 | AF15: =IF(T15="","",SUM(AB15:AE15)) -> 0 | AG15: =IF(T15="","",AF15+AA15) -> 0 | AH15: =IF(T15="","",SUM(AF15,AA15,O15,J15)) -> 0 | AI15: =IF(T15="","",IF(AJ15="ร","ร",IF(AJ15="มส","มส",IF(AH15<50,0,IF(AH15<55,1,IF(AH15<60,1.5,IF(AH15<65,2,IF(AH15<70,2.5,IF(AH15<75,3,IF(AH15<80,3.5,IF(AH15<=100,4,"ผิดพลาด"))))))))))) -> 0
A16: =ใบรายชื่อ!A16 -> 11 | B16: =IF(ใบรายชื่อ!B16="","",ใบรายชื่อ!B16) -> 03984 | C16: =IF(ใบรายชื่อ!C16="","",ใบรายชื่อ!C16) -> น.ส.ธิดาพร วงษ์โชติ | J16: =IF(C16="","",SUM(F16:I16)) -> 0 | O16: =IF(C16="","",SUM(K16:N16)) -> 0 | P16: =IF(C16="","",O16+J16) -> 0 | R16: =A16 -> 11 | S16: =IF(B16="","",B16) -> 03984 | T16: =IF(C16="","",C16) -> น.ส.ธิดาพร วงษ์โชติ | AA16: =IF(T16="","",SUM(W16:Z16)) -> 0 | AF16: =IF(T16="","",SUM(AB16:AE16)) -> 0 | AG16: =IF(T16="","",AF16+AA16) -> 0 | AH16: =IF(T16="","",SUM(AF16,AA16,O16,J16)) -> 0 | AI16: =IF(T16="","",IF(AJ16="ร","ร",IF(AJ16="มส","มส",IF(AH16<50,0,IF(AH16<55,1,IF(AH16<60,1.5,IF(AH16<65,2,IF(AH16<70,2.5,IF(AH16<75,3,IF(AH16<80,3.5,IF(AH16<=100,4,"ผิดพลาด"))))))))))) -> 0
A17: =ใบรายชื่อ!A17 -> 12 | B17: =IF(ใบรายชื่อ!B17="","",ใบรายชื่อ!B17) -> 03985 | C17: =IF(ใบรายชื่อ!C17="","",ใบรายชื่อ!C17) -> น.ส.พรพิมล ปะตังถาเน | J17: =IF(C17="","",SUM(F17:I17)) -> 0 | O17: =IF(C17="","",SUM(K17:N17)) -> 0 | P17: =IF(C17="","",O17+J17) -> 0 | R17: =A17 -> 12 | S17: =IF(B17="","",B17) -> 03985 | T17: =IF(C17="","",C17) -> น.ส.พรพิมล ปะตังถาเน | AA17: =IF(T17="","",SUM(W17:Z17)) -> 0 | AF17: =IF(T17="","",SUM(AB17:AE17)) -> 0 | AG17: =IF(T17="","",AF17+AA17) -> 0 | AH17: =IF(T17="","",SUM(AF17,AA17,O17,J17)) -> 0 | AI17: =IF(T17="","",IF(AJ17="ร","ร",IF(AJ17="มส","มส",IF(AH17<50,0,IF(AH17<55,1,IF(AH17<60,1.5,IF(AH17<65,2,IF(AH17<70,2.5,IF(AH17<75,3,IF(AH17<80,3.5,IF(AH17<=100,4,"ผิดพลาด"))))))))))) -> 0
... A35: =ใบรายชื่อ!A35 -> 30 | B35: =IF(ใบรายชื่อ!B35="","",ใบรายชื่อ!B35) | C35: =IF(ใบรายชื่อ!C35="","",ใบรายชื่อ!C35) | J35: =IF(C35="","",SUM(F35:I35)) | O35: =IF(C35="","",SUM(K35:N35)) | P35: =IF(C35="","",O35+J35) | R35: =A35 -> 30 | S35: =IF(B35="","",B35) | T35: =IF(C35="","",C35) | AA35: =IF(T35="","",SUM(W35:Z35)) | AF35: =IF(T35="","",SUM(AB35:AE35)) | AG35: =IF(T35="","",AF35+AA35) | AH35: =IF(T35="","",SUM(AF35,AA35,O35,J35)) | AI35: =IF(T35="","",IF(AJ35="ร","ร",IF(AJ35="มส","มส",IF(AH35<50,0,IF(AH35<55,1,IF(AH35<60,1.5,IF(AH35<65,2,IF(AH35<70,2.5,IF(AH35<75,3,IF(AH35<80,3.5,IF(AH35<=100,4,"ผิดพลาด")))))))))))

Sheet คุณลักษณะ
A1: รายวิชา | C1: =ข้อมูลพื้นฐาน!D6 -> ออกแบบและเทคโนโลยี | F1: รหัสวิชา | H1: =ข้อมูลพื้นฐาน!D7 -> ว32102 | J1: ภาคเรียน | L1: =ข้อมูลพื้นฐาน!B11 -> 1 | M1: ปีการศึกษา | O1: =ข้อมูลพื้นฐาน!B10 -> 2569
A2: ระดับชั้น มัธยมศึกษาปีที่ | F2: =ข้อมูลพื้นฐาน!D2 -> 5 | G2: ห้อง | H2: =ข้อมูลพื้นฐาน!D3 -> 1 | K2: เวลาเรียน | M2: =ข้อมูลพื้นฐาน!D8 -> 1 | N2: ชั่วโมง/สัปดาห์
A3: เลขที่ | B3: เลขประจำตัว | C3: ชื่อ-สกุล | F3: คุณลักษณะอังพึงประสงค์ | N3: คะแนนประเมิน | O3: ผลการประเมิน
F4: 1 | G4: 2 | H4: 3 | I4: 4 | J4: 5 | K4: 6 | L4: 7 | M4: 8
F5: 3 | G5: 3 | H5: 3 | I5: 3 | J5: 3 | K5: 3 | L5: 3 | M5: 3
A6: =ใบรายชื่อ!A6 -> 1 | B6: =IF(ใบรายชื่อ!B6="","",ใบรายชื่อ!B6) -> 03964 | C6: =IF(ใบรายชื่อ!C6="","",ใบรายชื่อ!C6) -> นายคฑาทิปศิ์ มีลักษณ์ | N6: =IF(C6="","",IF(SUM(F6:M6)<8,0,IF(SUM(F6:M6)<11,1,IF(SUM(F6:M6)<20,2,3)))) -> 0 | O6: =IF(C6="","",IF(N6=0,"ไม่ผ่าน",IF(N6=1,"ผ่าน",IF(N6=2,"ดี","ดีเยี่ยม")))) -> ไม่ผ่าน
A7: =ใบรายชื่อ!A7 -> 2 | B7: =IF(ใบรายชื่อ!B7="","",ใบรายชื่อ!B7) -> 03965 | C7: =IF(ใบรายชื่อ!C7="","",ใบรายชื่อ!C7) -> นายฉัตรดนัย เทียงทำ | N7: =IF(C7="","",IF(SUM(F7:M7)<8,0,IF(SUM(F7:M7)<11,1,IF(SUM(F7:M7)<20,2,3)))) -> 0 | O7: =IF(C7="","",IF(N7=0,"ไม่ผ่าน",IF(N7=1,"ผ่าน",IF(N7=2,"ดี","ดีเยี่ยม")))) -> ไม่ผ่าน
A8: =ใบรายชื่อ!A8 -> 3 | B8: =IF(ใบรายชื่อ!B8="","",ใบรายชื่อ!B8) -> 30969 | C8: =IF(ใบรายชื่อ!C8="","",ใบรายชื่อ!C8) -> นายธนากร ช่อหนองแสง | N8: =IF(C8="","",IF(SUM(F8:M8)<8,0,IF(SUM(F8:M8)<11,1,IF(SUM(F8:M8)<20,2,3)))) -> 0 | O8: =IF(C8="","",IF(N8=0,"ไม่ผ่าน",IF(N8=1,"ผ่าน",IF(N8=2,"ดี","ดีเยี่ยม")))) -> ไม่ผ่าน
A9: =ใบรายชื่อ!A9 -> 4 | B9: =IF(ใบรายชื่อ!B9="","",ใบรายชื่อ!B9) -> 03971 | C9: =IF(ใบรายชื่อ!C9="","",ใบรายชื่อ!C9) -> นายธวัฒชัย นารีแก้ว | N9: =IF(C9="","",IF(SUM(F9:M9)<8,0,IF(SUM(F9:M9)<11,1,IF(SUM(F9:M9)<20,2,3)))) -> 0 | O9: =IF(C9="","",IF(N9=0,"ไม่ผ่าน",IF(N9=1,"ผ่าน",IF(N9=2,"ดี","ดีเยี่ยม")))) -> ไม่ผ่าน
A10: =ใบรายชื่อ!A10 -> 5 | B10: =IF(ใบรายชื่อ!B10="","",ใบรายชื่อ!B10) -> 03974 | C10: =IF(ใบรายชื่อ!C10="","",ใบรายชื่อ!C10) -> นายพลธกร ทศไกร | N10: =IF(C10="","",IF(SUM(F10:M10)<8,0,IF(SUM(F10:M10)<11,1,IF(SUM(F10:M10)<20,2,3)))) -> 0 | O10: =IF(C10="","",IF(N10=0,"ไม่ผ่าน",IF(N10=1,"ผ่าน",IF(N10=2,"ดี","ดีเยี่ยม")))) -> ไม่ผ่าน
A11: =ใบรายชื่อ!A11 -> 6 | B11: =IF(ใบรายชื่อ!B11="","",ใบรายชื่อ!B11) -> 03975 | C11: =IF(ใบรายชื่อ!C11="","",ใบรายชื่อ!C11) -> นายภูมิณฤทธิ์ ฉิมจารย์ | N11: =IF(C11="","",IF(SUM(F11:M11)<8,0,IF(SUM(F11:M11)<11,1,IF(SUM(F11:M11)<20,2,3)))) -> 0 | O11: =IF(C11="","",IF(N11=0,"ไม่ผ่าน",IF(N11=1,"ผ่าน",IF(N11=2,"ดี","ดีเยี่ยม")))) -> ไม่ผ่าน
A12: =ใบรายชื่อ!A12 -> 7 | B12: =IF(ใบรายชื่อ!B12="","",ใบรายชื่อ!B12) -> 03978 | C12: =IF(ใบรายชื่อ!C12="","",ใบรายชื่อ!C12) -> นายศักดินนท์ เหลือมพล | N12: =IF(C12="","",IF(SUM(F12:M12)<8,0,IF(SUM(F12:M12)<11,1,IF(SUM(F12:M12)<20,2,3)))) -> 0 | O12: =IF(C12="","",IF(N12=0,"ไม่ผ่าน",IF(N12=1,"ผ่าน",IF(N12=2,"ดี","ดีเยี่ยม")))) -> ไม่ผ่าน
A13: =ใบรายชื่อ!A13 -> 8 | B13: =IF(ใบรายชื่อ!B13="","",ใบรายชื่อ!B13) -> 03979 | C13: =IF(ใบรายชื่อ!C13="","",ใบรายชื่อ!C13) -> นายสหรัฐ ขันทะรักษา | N13: =IF(C13="","",IF(SUM(F13:M13)<8,0,IF(SUM(F13:M13)<11,1,IF(SUM(F13:M13)<20,2,3)))) -> 0 | O13: =IF(C13="","",IF(N13=0,"ไม่ผ่าน",IF(N13=1,"ผ่าน",IF(N13=2,"ดี","ดีเยี่ยม")))) -> ไม่ผ่าน
A14: =ใบรายชื่อ!A14 -> 9 | B14: =IF(ใบรายชื่อ!B14="","",ใบรายชื่อ!B14) -> 03980 | C14: =IF(ใบรายชื่อ!C14="","",ใบรายชื่อ!C14) -> นายอนุพน ประทาน | N14: =IF(C14="","",IF(SUM(F14:M14)<8,0,IF(SUM(F14:M14)<11,1,IF(SUM(F14:M14)<20,2,3)))) -> 0 | O14: =IF(C14="","",IF(N14=0,"ไม่ผ่าน",IF(N14=1,"ผ่าน",IF(N14=2,"ดี","ดีเยี่ยม")))) -> ไม่ผ่าน
A15: =ใบรายชื่อ!A15 -> 10 | B15: =IF(ใบรายชื่อ!B15="","",ใบรายชื่อ!B15) -> 03981 | C15: =IF(ใบรายชื่อ!C15="","",ใบรายชื่อ!C15) -> นายอัครศาสน์ แดงดี | N15: =IF(C15="","",IF(SUM(F15:M15)<8,0,IF(SUM(F15:M15)<11,1,IF(SUM(F15:M15)<20,2,3)))) -> 0 | O15: =IF(C15="","",IF(N15=0,"ไม่ผ่าน",IF(N15=1,"ผ่าน",IF(N15=2,"ดี","ดีเยี่ยม")))) -> ไม่ผ่าน
A16: =ใบรายชื่อ!A16 -> 11 | B16: =IF(ใบรายชื่อ!B16="","",ใบรายชื่อ!B16) -> 03984 | C16: =IF(ใบรายชื่อ!C16="","",ใบรายชื่อ!C16) -> น.ส.ธิดาพร วงษ์โชติ | N16: =IF(C16="","",IF(SUM(F16:M16)<8,0,IF(SUM(F16:M16)<11,1,IF(SUM(F16:M16)<20,2,3)))) -> 0 | O16: =IF(C16="","",IF(N16=0,"ไม่ผ่าน",IF(N16=1,"ผ่าน",IF(N16=2,"ดี","ดีเยี่ยม")))) -> ไม่ผ่าน
A17: =ใบรายชื่อ!A17 -> 12 | B17: =IF(ใบรายชื่อ!B17="","",ใบรายชื่อ!B17) -> 03985 | C17: =IF(ใบรายชื่อ!C17="","",ใบรายชื่อ!C17) -> น.ส.พรพิมล ปะตังถาเน | N17: =IF(C17="","",IF(SUM(F17:M17)<8,0,IF(SUM(F17:M17)<11,1,IF(SUM(F17:M17)<20,2,3)))) -> 0 | O17: =IF(C17="","",IF(N17=0,"ไม่ผ่าน",IF(N17=1,"ผ่าน",IF(N17=2,"ดี","ดีเยี่ยม")))) -> ไม่ผ่าน
... A35: =ใบรายชื่อ!A35 -> 30 | B35: =IF(ใบรายชื่อ!B35="","",ใบรายชื่อ!B35) | C35: =IF(ใบรายชื่อ!C35="","",ใบรายชื่อ!C35) | N35: =IF(C35="","",IF(SUM(F35:M35)<8,0,IF(SUM(F35:M35)<11,1,IF(SUM(F35:M35)<20,2,3)))) | O35: =IF(C35="","",IF(N35=0,"ไม่ผ่าน",IF(N35=1,"ผ่าน",IF(N35=2,"ดี","ดีเยี่ยม"))))

Sheet อ่านคิดเขียน
A1: รายวิชา | C1: =ข้อมูลพื้นฐาน!D6 -> ออกแบบและเทคโนโลยี | F1: รหัสวิชา | H1: =ข้อมูลพื้นฐาน!D7 -> ว32102 | J1: ภาคเรียน | L1: =ข้อมูลพื้นฐาน!B11 -> 1 | M1: ปีการศึกษา | O1: =ข้อมูลพื้นฐาน!B10 -> 2569
A2: ระดับชั้น มัธยมศึกษาปีที่ | F2: =ข้อมูลพื้นฐาน!D2 -> 5 | G2: ห้อง | H2: =ข้อมูลพื้นฐาน!D3 -> 1 | K2: เวลาเรียน | M2: =ข้อมูลพื้นฐาน!D8 -> 1 | N2: ชั่วโมง/สัปดาห์
A3: เลขที่ | B3: เลขประจำตัว | C3: ชื่อ-สกุล | F3: อ่าน คิดวิเคราะห์ เขียนสื่อความ | K3: คะแนนประเมิน | L3: ผลการ ประเมิน | N3: คะแนนประเมิน | O3: ผลการประเมิน
F4: 1 | G4: 2 | H4: 3 | I4: 4 | J4: 5
F5: 3 | G5: 3 | H5: 3 | I5: 3 | J5: 3
A6: =ใบรายชื่อ!A6 -> 1 | B6: =IF(ใบรายชื่อ!B6="","",ใบรายชื่อ!B6) -> 03964 | C6: =IF(ใบรายชื่อ!C6="","",ใบรายชื่อ!C6) -> นายคฑาทิปศิ์ มีลักษณ์ | N6: =IF(C6="","",IF(SUM(F6:J6)<5,0,IF(SUM(F6:J6)<6,1,IF(SUM(F6:J6)<11,2,3)))) -> 0 | O6: =IF(C6="","",IF(N6=0,"ไม่ผ่าน",IF(N6=1,"ผ่าน",IF(N6=2,"ดี","ดีเยี่ยม")))) -> ไม่ผ่าน
A7: =ใบรายชื่อ!A7 -> 2 | B7: =IF(ใบรายชื่อ!B7="","",ใบรายชื่อ!B7) -> 03965 | C7: =IF(ใบรายชื่อ!C7="","",ใบรายชื่อ!C7) -> นายฉัตรดนัย เทียงทำ | N7: =IF(C7="","",IF(SUM(F7:J7)<5,0,IF(SUM(F7:J7)<6,1,IF(SUM(F7:J7)<11,2,3)))) -> 0 | O7: =IF(C7="","",IF(N7=0,"ไม่ผ่าน",IF(N7=1,"ผ่าน",IF(N7=2,"ดี","ดีเยี่ยม")))) -> ไม่ผ่าน
A8: =ใบรายชื่อ!A8 -> 3 | B8: =IF(ใบรายชื่อ!B8="","",ใบรายชื่อ!B8) -> 30969 | C8: =IF(ใบรายชื่อ!C8="","",ใบรายชื่อ!C8) -> นายธนากร ช่อหนองแสง | N8: =IF(C8="","",IF(SUM(F8:J8)<5,0,IF(SUM(F8:J8)<6,1,IF(SUM(F8:J8)<11,2,3)))) -> 0 | O8: =IF(C8="","",IF(N8=0,"ไม่ผ่าน",IF(N8=1,"ผ่าน",IF(N8=2,"ดี","ดีเยี่ยม")))) -> ไม่ผ่าน
A9: =ใบรายชื่อ!A9 -> 4 | B9: =IF(ใบรายชื่อ!B9="","",ใบรายชื่อ!B9) -> 03971 | C9: =IF(ใบรายชื่อ!C9="","",ใบรายชื่อ!C9) -> นายธวัฒชัย นารีแก้ว | N9: =IF(C9="","",IF(SUM(F9:J9)<5,0,IF(SUM(F9:J9)<6,1,IF(SUM(F9:J9)<11,2,3)))) -> 0 | O9: =IF(C9="","",IF(N9=0,"ไม่ผ่าน",IF(N9=1,"ผ่าน",IF(N9=2,"ดี","ดีเยี่ยม")))) -> ไม่ผ่าน
A10: =ใบรายชื่อ!A10 -> 5 | B10: =IF(ใบรายชื่อ!B10="","",ใบรายชื่อ!B10) -> 03974 | C10: =IF(ใบรายชื่อ!C10="","",ใบรายชื่อ!C10) -> นายพลธกร ทศไกร | N10: =IF(C10="","",IF(SUM(F10:J10)<5,0,IF(SUM(F10:J10)<6,1,IF(SUM(F10:J10)<11,2,3)))) -> 0 | O10: =IF(C10="","",IF(N10=0,"ไม่ผ่าน",IF(N10=1,"ผ่าน",IF(N10=2,"ดี","ดีเยี่ยม")))) -> ไม่ผ่าน
A11: =ใบรายชื่อ!A11 -> 6 | B11: =IF(ใบรายชื่อ!B11="","",ใบรายชื่อ!B11) -> 03975 | C11: =IF(ใบรายชื่อ!C11="","",ใบรายชื่อ!C11) -> นายภูมิณฤทธิ์ ฉิมจารย์ | N11: =IF(C11="","",IF(SUM(F11:J11)<5,0,IF(SUM(F11:J11)<6,1,IF(SUM(F11:J11)<11,2,3)))) -> 0 | O11: =IF(C11="","",IF(N11=0,"ไม่ผ่าน",IF(N11=1,"ผ่าน",IF(N11=2,"ดี","ดีเยี่ยม")))) -> ไม่ผ่าน
A12: =ใบรายชื่อ!A12 -> 7 | B12: =IF(ใบรายชื่อ!B12="","",ใบรายชื่อ!B12) -> 03978 | C12: =IF(ใบรายชื่อ!C12="","",ใบรายชื่อ!C12) -> นายศักดินนท์ เหลือมพล | N12: =IF(C12="","",IF(SUM(F12:J12)<5,0,IF(SUM(F12:J12)<6,1,IF(SUM(F12:J12)<11,2,3)))) -> 0 | O12: =IF(C12="","",IF(N12=0,"ไม่ผ่าน",IF(N12=1,"ผ่าน",IF(N12=2,"ดี","ดีเยี่ยม")))) -> ไม่ผ่าน
A13: =ใบรายชื่อ!A13 -> 8 | B13: =IF(ใบรายชื่อ!B13="","",ใบรายชื่อ!B13) -> 03979 | C13: =IF(ใบรายชื่อ!C13="","",ใบรายชื่อ!C13) -> นายสหรัฐ ขันทะรักษา | N13: =IF(C13="","",IF(SUM(F13:J13)<5,0,IF(SUM(F13:J13)<6,1,IF(SUM(F13:J13)<11,2,3)))) -> 0 | O13: =IF(C13="","",IF(N13=0,"ไม่ผ่าน",IF(N13=1,"ผ่าน",IF(N13=2,"ดี","ดีเยี่ยม")))) -> ไม่ผ่าน
A14: =ใบรายชื่อ!A14 -> 9 | B14: =IF(ใบรายชื่อ!B14="","",ใบรายชื่อ!B14) -> 03980 | C14: =IF(ใบรายชื่อ!C14="","",ใบรายชื่อ!C14) -> นายอนุพน ประทาน | N14: =IF(C14="","",IF(SUM(F14:J14)<5,0,IF(SUM(F14:J14)<6,1,IF(SUM(F14:J14)<11,2,3)))) -> 0 | O14: =IF(C14="","",IF(N14=0,"ไม่ผ่าน",IF(N14=1,"ผ่าน",IF(N14=2,"ดี","ดีเยี่ยม")))) -> ไม่ผ่าน
A15: =ใบรายชื่อ!A15 -> 10 | B15: =IF(ใบรายชื่อ!B15="","",ใบรายชื่อ!B15) -> 03981 | C15: =IF(ใบรายชื่อ!C15="","",ใบรายชื่อ!C15) -> นายอัครศาสน์ แดงดี | N15: =IF(C15="","",IF(SUM(F15:J15)<5,0,IF(SUM(F15:J15)<6,1,IF(SUM(F15:J15)<11,2,3)))) -> 0 | O15: =IF(C15="","",IF(N15=0,"ไม่ผ่าน",IF(N15=1,"ผ่าน",IF(N15=2,"ดี","ดีเยี่ยม")))) -> ไม่ผ่าน
A16: =ใบรายชื่อ!A16 -> 11 | B16: =IF(ใบรายชื่อ!B16="","",ใบรายชื่อ!B16) -> 03984 | C16: =IF(ใบรายชื่อ!C16="","",ใบรายชื่อ!C16) -> น.ส.ธิดาพร วงษ์โชติ | N16: =IF(C16="","",IF(SUM(F16:J16)<5,0,IF(SUM(F16:J16)<6,1,IF(SUM(F16:J16)<11,2,3)))) -> 0 | O16: =IF(C16="","",IF(N16=0,"ไม่ผ่าน",IF(N16=1,"ผ่าน",IF(N16=2,"ดี","ดีเยี่ยม")))) -> ไม่ผ่าน
A17: =ใบรายชื่อ!A17 -> 12 | B17: =IF(ใบรายชื่อ!B17="","",ใบรายชื่อ!B17) -> 03985 | C17: =IF(ใบรายชื่อ!C17="","",ใบรายชื่อ!C17) -> น.ส.พรพิมล ปะตังถาเน | N17: =IF(C17="","",IF(SUM(F17:J17)<5,0,IF(SUM(F17:J17)<6,1,IF(SUM(F17:J17)<11,2,3)))) -> 0 | O17: =IF(C17="","",IF(N17=0,"ไม่ผ่าน",IF(N17=1,"ผ่าน",IF(N17=2,"ดี","ดีเยี่ยม")))) -> ไม่ผ่าน
... A35: =ใบรายชื่อ!A35 -> 30 | B35: =IF(ใบรายชื่อ!B35="","",ใบรายชื่อ!B35) | C35: =IF(ใบรายชื่อ!C35="","",ใบรายชื่อ!C35) | N35: =IF(C35="","",IF(SUM(F35:J35)<5,0,IF(SUM(F35:J35)<6,1,IF(SUM(F35:J35)<11,2,3)))) | O35: =IF(C35="","",IF(N35=0,"ไม่ผ่าน",IF(N35=1,"ผ่าน",IF(N35=2,"ดี","ดีเยี่ยม"))))

Sheet สาระเรียนรู้
A1: รายวิชา | C1: =ข้อมูลพื้นฐาน!D6 -> ออกแบบและเทคโนโลยี | H1: รหัสวิชา | J1: =ข้อมูลพื้นฐาน!D7 -> ว32102 | L1: ภาคเรียน | N1: =ข้อมูลพื้นฐาน!B11 -> 1 | O1: ปีการศึกษา | Q1: =ข้อมูลพื้นฐาน!B10 -> 2569
A2: ระดับชั้น มัธยมศึกษาปีที่ | F2: =ข้อมูลพื้นฐาน!D2 -> 5 | G2: ห้อง | H2: =ข้อมูลพื้นฐาน!D3 -> 1 | L2: เวลาเรียน | N2: =ข้อมูลพื้นฐาน!D8 -> 1 | O2: ชั่วโมง/สัปดาห์
B4: สาระ มาตรฐานและตัวชี้วัด/ผลการเรียนรู้
A18: ตัวชี้วัด/ผลการเรียนรู้ที่คาดหวัง
A19: ข้อ | C19: รายละเอียด | M19: ก่อน | N19: กลาง | O19: หลัง | P19: ปลาย | Q19: รวม
